BEGIN:VCALENDAR
PRODID:-//AddEvent Inc//AddEvent.com v1.7//EN
VERSION:2.0
BEGIN:VTIMEZONE
TZID:America/New_York
BEGIN:STANDARD
DTSTART:20261101T010000
RRULE:FREQ=YEARLY;BYDAY=1SU;BYMONTH=11
TZOFFSETFROM:-0400
TZOFFSETTO:-0500
TZNAME:EST
END:STANDARD
BEGIN:DAYLIGHT
DTSTART:20260308T030000
RRULE:FREQ=YEARLY;BYDAY=2SU;BYMONTH=3
TZOFFSETFROM:-0500
TZOFFSETTO:-0400
TZNAME:EDT
END:DAYLIGHT
END:VTIMEZONE
BEGIN:VEVENT
DESCRIPTION:Join from a PC\, Mac\, iPad\, iPhone or Android device:\n\nPlease click this URL to join. https://us02web.zoom.us/j/84564958811\n\nDescription: Join our LIVE webinar to learn everything you need to know about selling modern contactless payment solutions.\n\nOr join by phone:\n\nDial(for higher quality\, dial a number based on your current location): \n\nUS: +1 929 205 6099 or +1 312 626 6799 or +1 301 715 8592 or +1 346 248 7799 or +1 669 900 6833 or +1 253 215 8782 \n\nWebinar ID: 845 6495 8811\n\nInternational numbers available: https://us02web.zoom.us/u/kcyAnusvAt\n\n------\n\nPowered by addevent.com \nShare your next event with us!\n
X-ALT-DESC;FMTTYPE=text/html:Join from a PC, Mac, iPad, iPhone or Android device:<br /> Please click this URL to join. https://us02web.zoom.us/j/84564958811<br /> Description: Join our LIVE webinar to learn everything you need to know about selling modern contactless payment solutions.<br><br>Or join by phone:<br /> Dial(for higher quality, dial a number based on your current location): <br /> US: +1 929 205 6099 or +1 312 626 6799 or +1 301 715 8592 or +1 346 248 7799 or +1 669 900 6833 or +1 253 215 8782 <br /> Webinar ID: 845 6495 8811<br /> International numbers available: https://us02web.zoom.us/u/kcyAnusvAt<br /><br />------<br /><br />Powered by addevent.com <br>Share your next event with us!<br>
UID:1776953095addeventcom
SUMMARY:Webinar: Selling Contactless Solutions presented by CardFlight and PAX Technology
DTSTART;TZID=America/New_York:20200623T140000
DTEND;TZID=America/New_York:20200623T150000
DTSTAMP:20260423T140455Z
TRANSP:OPAQUE
STATUS:CONFIRMED
SEQUENCE:0
LOCATION:https://us02web.zoom.us/j/84564958811
X-MICROSOFT-CDO-BUSYSTATUS:BUSY
BEGIN:VALARM
TRIGGER:-PT5M
ACTION:DISPLAY
DESCRIPTION:Reminder
END:VALARM
END:VEVENT
END:VCALENDAR