BEGIN:VCALENDAR
PRODID:-//AddEvent Inc//AddEvent.com v1.7//EN
VERSION:2.0
BEGIN:VTIMEZONE
TZID:America/Chicago
BEGIN:STANDARD
DTSTART:20261101T010000
RRULE:FREQ=YEARLY;BYDAY=1SU;BYMONTH=11
TZOFFSETFROM:-0500
TZOFFSETTO:-0600
TZNAME:CST
END:STANDARD
BEGIN:DAYLIGHT
DTSTART:20260308T030000
RRULE:FREQ=YEARLY;BYDAY=2SU;BYMONTH=3
TZOFFSETFROM:-0600
TZOFFSETTO:-0500
TZNAME:CDT
END:DAYLIGHT
END:VTIMEZONE
BEGIN:VEVENT
DESCRIPTION:First Look Details:\n\n• Date: July 31\, 2025\n• Time: 1:00 pm - 3:00 pm\n• Location: PTT Financial Office\n• Presenter: Johanna Linares\n\n\n\n------\n\nPowered by addevent.com \nShare your next event with us!\n
X-ALT-DESC;FMTTYPE=text/html:<strong>First Look Details:</strong><ul><li><strong>Date:</strong> July 31, 2025</li><li><strong>Time:</strong> 1:00 pm - 3:00 pm</li><li><strong>Location:</strong> PTT Financial Office</li><li><strong>Presenter:</strong> Johanna Linares</li></ul><br /><br />------<br /><br />Powered by addevent.com <br>Share your next event with us!<br>
UID:1777011208addeventcom
SUMMARY:Wellcare 2026 AEP First Look
DTSTART;TZID=America/Chicago:20250731T130000
DTEND;TZID=America/Chicago:20250731T150000
DTSTAMP:20260424T061328Z
TRANSP:OPAQUE
STATUS:CONFIRMED
SEQUENCE:0
LOCATION:410 E. Harrison Avenue\, Harlingen\, 78550\, TX\, USA
X-MICROSOFT-CDO-BUSYSTATUS:BUSY
BEGIN:VALARM
TRIGGER:-PT120M
ACTION:DISPLAY
DESCRIPTION:Reminder
END:VALARM
END:VEVENT
END:VCALENDAR