BEGIN:VCALENDAR
PRODID:-//AddEvent Inc//AddEvent.com v1.7//EN
VERSION:2.0
BEGIN:VTIMEZONE
TZID:America/New_York
BEGIN:STANDARD
DTSTART:20261101T010000
RRULE:FREQ=YEARLY;BYDAY=1SU;BYMONTH=11
TZOFFSETFROM:-0400
TZOFFSETTO:-0500
TZNAME:EST
END:STANDARD
BEGIN:DAYLIGHT
DTSTART:20260308T030000
RRULE:FREQ=YEARLY;BYDAY=2SU;BYMONTH=3
TZOFFSETFROM:-0500
TZOFFSETTO:-0400
TZNAME:EDT
END:DAYLIGHT
END:VTIMEZONE
BEGIN:VEVENT
DESCRIPTION:🚴‍♀️ Bike\, walk\, skate\, dance\, and play. This event turns the street into a gathering place\, featuring music\, food\, games + other fun activities along the route that runs 3 miles from Midtown to Downtown.
X-ALT-DESC;FMTTYPE=text/html:🚴‍♀️ Bike, walk, skate, dance, and play. This event turns the street into a gathering place, featuring music, food, games + other fun activities along the route that runs 3 miles from Midtown to Downtown.
UID:1777112291addeventcom
SUMMARY:Atlanta Streets Alive!
DTSTART;TZID=America/New_York:20250622T140000
DTEND;TZID=America/New_York:20250622T180000
DTSTAMP:20260425T101811Z
TRANSP:OPAQUE
STATUS:CONFIRMED
SEQUENCE:0
LOCATION:Peachtree Street (Midtown to Downtown)
X-MICROSOFT-CDO-BUSYSTATUS:BUSY
BEGIN:VALARM
TRIGGER:-PT30M
ACTION:DISPLAY
DESCRIPTION:Reminder
END:VALARM
END:VEVENT
END:VCALENDAR