BEGIN:VCALENDAR
PRODID:-//AddEvent Inc//AddEvent.com v1.7//EN
VERSION:2.0
BEGIN:VTIMEZONE
TZID:America/New_York
BEGIN:STANDARD
DTSTART:20261101T010000
RRULE:FREQ=YEARLY;BYDAY=1SU;BYMONTH=11
TZOFFSETFROM:-0400
TZOFFSETTO:-0500
TZNAME:EST
END:STANDARD
BEGIN:DAYLIGHT
DTSTART:20260308T030000
RRULE:FREQ=YEARLY;BYDAY=2SU;BYMONTH=3
TZOFFSETFROM:-0500
TZOFFSETTO:-0400
TZNAME:EDT
END:DAYLIGHT
END:VTIMEZONE
BEGIN:VEVENT
DESCRIPTION:BIOINFORMATICS TRACK\n\nBeyond the Code: Empowering Scientists with Modern Software Development Tools\n\nEvan Floden\, CEO and co-founder\, Seqera \n\nScientists can use open source tools and techniques from software development to greatly advance data analysis in precision medicine. Learn how these tools and resources\, such as nf-core and bioconda\, provide bioinformaticians with the ability to create and build scalable\, reproducible\, and flexible solutions based on open science. Discover how containerized workflow engines like Nextflow are having significant impact on efficiencies and output in research and development across biopharma.\n\nContact us for more information at info@seqera.io mailto:info@seqera.io \n\n------\n\nPowered by addevent.com \nShare your next event with us!\n
X-ALT-DESC;FMTTYPE=text/html:<p dir="ltr"><strong>BIOINFORMATICS TRACK<br /></strong></p><p dir="ltr"><strong>Beyond the Code: Empowering Scientists with Modern Software Development Tools</strong></p><p dir="ltr">Evan Floden, CEO and co-founder, Seqera </p>Scientists can use open source tools and techniques from software development to greatly advance data analysis in precision medicine. Learn how these tools and resources, such as nf-core and bioconda, provide bioinformaticians with the ability to create and build scalable, reproducible, and flexible solutions based on open science. Discover how containerized workflow engines like Nextflow are having significant impact on efficiencies and output in research and development across biopharma.<br><br>Contact us for more information at <a href="mailto:info@seqera.io">info@seqera.io</a> <br /><br />------<br /><br />Powered by addevent.com <br>Share your next event with us!<br>
UID:1776761654addeventcom
SUMMARY:Seqera's talk in the Bioinformatics track
DTSTART;TZID=America/New_York:20240416T121000
DTEND;TZID=America/New_York:20240416T122500
DTSTAMP:20260421T085414Z
TRANSP:OPAQUE
STATUS:CONFIRMED
SEQUENCE:0
LOCATION:Bio-IT World\, Omni Seaport
X-MICROSOFT-CDO-BUSYSTATUS:BUSY
BEGIN:VALARM
TRIGGER:-PT30M
ACTION:DISPLAY
DESCRIPTION:Reminder
END:VALARM
END:VEVENT
END:VCALENDAR