BEGIN:VCALENDAR
PRODID:-//AddEvent Inc//AddEvent.com v1.7//EN
VERSION:2.0
BEGIN:VEVENT
DESCRIPTION:http://aius-sexogyn.fr\n\n------\n\nPowered by addevent.com \nShare your next event with us!\n
X-ALT-DESC;FMTTYPE=text/html:http://aius-sexogyn.fr<br /><br />------<br /><br />Powered by addevent.com <br>Share your next event with us!<br>
UID:1776696045addeventcom
SUMMARY:7e Journées AIUS/SEXOGYN : Regards croisés sur les pratiques
DTSTART;VALUE=DATE:20211210
DTEND;VALUE=DATE:20211212
DTSTAMP:20260420T144045Z
TRANSP:OPAQUE
STATUS:CONFIRMED
SEQUENCE:0
LOCATION:Palais des congrès\, 114 Rond-Point du Prado\, 13008 Marseille
X-MICROSOFT-CDO-BUSYSTATUS:BUSY
BEGIN:VALARM
TRIGGER:-PT10080M
ACTION:DISPLAY
DESCRIPTION:Reminder
END:VALARM
END:VEVENT
END:VCALENDAR