BEGIN:VCALENDAR
PRODID:-//AddEvent Inc//AddEvent.com v1.7//EN
VERSION:2.0
BEGIN:VTIMEZONE
TZID:Europe/London
BEGIN:STANDARD
DTSTART:20261025T010000
RRULE:FREQ=YEARLY;BYDAY=-1SU;BYMONTH=10
TZOFFSETFROM:+0100
TZOFFSETTO:+0000
TZNAME:GMT
END:STANDARD
BEGIN:DAYLIGHT
DTSTART:20260329T020000
RRULE:FREQ=YEARLY;BYDAY=-1SU;BYMONTH=3
TZOFFSETFROM:+0000
TZOFFSETTO:+0100
TZNAME:BST
END:DAYLIGHT
END:VTIMEZONE
BEGIN:VEVENT
DESCRIPTION:parcelLab Customer Day is coming to London!\nGet ready for an unforgettable experience.\n\n📅 Date: March 19\n⏰ Time: From 9:30 to 18:00\n🏠 Venue: Wallacespace Clerkenwell Green https://maps.app.goo.gl/8hBeKLqJmbfNaq1j6\n📍 Address: 18 Clerkenwell Grn\, London EC1R 0DP\, United Kingdom\n\nIf you have questions please don't hesitate to let us know.\n\n------\n\nPowered by addevent.com \nShare your next event with us!\n
X-ALT-DESC;FMTTYPE=text/html:parcelLab Customer Day is coming to London!<br />Get ready for an unforgettable experience.<br><br><span>📅</span> <strong>Date:</strong> March 19<br />⏰ <strong>Time:</strong> From 9:30 to 18:00<br /><span>🏠</span> <strong>Venue:</strong> <a href="https://maps.app.goo.gl/8hBeKLqJmbfNaq1j6" rel="noopener noreferrer" target="_blank">Wallacespace Clerkenwell Green</a><br /><span>📍</span> <strong>Address:</strong> 18 Clerkenwell Grn, London EC1R 0DP, United Kingdom<br><br>If you have questions please don't hesitate to let us know.<br /><br />------<br /><br />Powered by addevent.com <br>Share your next event with us!<br>
UID:1777139915addeventcom
SUMMARY:parcelLab Customer Day!
DTSTART;TZID=Europe/London:20240319T093000
DTEND;TZID=Europe/London:20240319T180000
DTSTAMP:20260425T175835Z
TRANSP:OPAQUE
STATUS:CONFIRMED
SEQUENCE:0
LOCATION:Wallacespace Clerkenwell Green
X-MICROSOFT-CDO-BUSYSTATUS:BUSY
BEGIN:VALARM
TRIGGER:-PT1440M
ACTION:DISPLAY
DESCRIPTION:Reminder
END:VALARM
END:VEVENT
END:VCALENDAR