BEGIN:VCALENDAR
PRODID:-//AddEvent Inc//AddEvent.com v1.7//EN
VERSION:2.0
BEGIN:VTIMEZONE
TZID:America/New_York
BEGIN:STANDARD
DTSTART:20261101T010000
RRULE:FREQ=YEARLY;BYDAY=1SU;BYMONTH=11
TZOFFSETFROM:-0400
TZOFFSETTO:-0500
TZNAME:EST
END:STANDARD
BEGIN:DAYLIGHT
DTSTART:20260308T030000
RRULE:FREQ=YEARLY;BYDAY=2SU;BYMONTH=3
TZOFFSETFROM:-0500
TZOFFSETTO:-0400
TZNAME:EDT
END:DAYLIGHT
END:VTIMEZONE
BEGIN:VEVENT
DESCRIPTION:You're invited to join a Zoom webinar about the L16HTHOUSE study. L16HTHOUSE is a drug trial for children and adolescents with 16p11.2 deletion. After a long delay related to COVID\, the study is about to launch.\n\nDr. Wendy Chung and Dr. Paul Wang will share information about the study\, including the study’s goals\, who is eligible\, travel requirements\, other demands on families who participate\, and background on the drug (arbaclofen) that is being studied. There will be plenty of time in the end for questions about the study. This clinical study is only open to US-based\, English-speaking participants.\n\nYou are invited to submit your questions ahead of time. Please email your questions to ejones@simonsfoundation.org mailto:ejones@simonsfoundation.org\n\nBelow is information on how to join the webinar:\n\n• https://simonsfoundation.zoom.us/j/94970330961?pwd=amNxZW5MbUNhVXFyVFkxbzZnSXJsUT09\n• Passcode: 567997\n\n\n\n------\n\nPowered by addevent.com \nShare your next event with us!\n
X-ALT-DESC;FMTTYPE=text/html:You're invited to join a Zoom webinar about the L16HTHOUSE study. L16HTHOUSE is a drug trial for children and adolescents with 16p11.2 deletion. After a long delay related to COVID, the study is about to launch.<br><br>Dr. Wendy Chung and Dr. Paul Wang will share information about the study, including the study’s goals, who is eligible, travel requirements, other demands on families who participate, and background on the drug (arbaclofen) that is being studied. There will be plenty of time in the end for questions about the study. This clinical study is only open to US-based, English-speaking participants.<br><br>You are invited to submit your questions ahead of time. Please email your questions to <a href="mailto:ejones@simonsfoundation.org">ejones@simonsfoundation.org</a><br><br><strong>Below is information on how to join the webinar:</strong><ul><li>https://simonsfoundation.zoom.us/j/94970330961?pwd=amNxZW5MbUNhVXFyVFkxbzZnSXJsUT09</li><li>Passcode: 567997</li></ul><br /><br />------<br /><br />Powered by addevent.com <br>Share your next event with us!<br>
UID:1776609959addeventcom
SUMMARY:The L16HTHOUSE study webinar: A drug trial for 16p11.2 deletion
DTSTART;TZID=America/New_York:20220515T160000
DTEND;TZID=America/New_York:20220515T170000
DTSTAMP:20260419T144559Z
TRANSP:OPAQUE
STATUS:CONFIRMED
SEQUENCE:0
LOCATION:Zoom
X-MICROSOFT-CDO-BUSYSTATUS:BUSY
BEGIN:VALARM
TRIGGER:-PT30M
ACTION:DISPLAY
DESCRIPTION:Reminder
END:VALARM
END:VEVENT
END:VCALENDAR