BEGIN:VCALENDAR
PRODID:-//AddEvent Inc//AddEvent.com v1.7//EN
VERSION:2.0
BEGIN:VTIMEZONE
TZID:Europe/Berlin
BEGIN:STANDARD
DTSTART:20261025T020000
RRULE:FREQ=YEARLY;BYDAY=-1SU;BYMONTH=10
TZOFFSETFROM:+0200
TZOFFSETTO:+0100
TZNAME:CET
END:STANDARD
BEGIN:DAYLIGHT
DTSTART:20260329T030000
RRULE:FREQ=YEARLY;BYDAY=-1SU;BYMONTH=3
TZOFFSETFROM:+0100
TZOFFSETTO:+0200
TZNAME:CEST
END:DAYLIGHT
END:VTIMEZONE
BEGIN:VEVENT
DESCRIPTION:Join DoiT\, Fivetran\, Google Cloud and Looker at the Wine Tasting Roadshow at the Google office in Berlin.\n\nHear from Tim Hiebenthal from one of the leading German VC Project A about the common pitfalls he’s experienced when building a data warehouse for their portfolio companies and how to avoid them.\n\nThe wine tasting will be conducted by the award winning German top 25 sommelier Nils Lackner. During the event we will be tasting one champagne and three high-quality wines\, non-alcoholic alternatives will also be available
X-ALT-DESC;FMTTYPE=text/html:Join DoiT, Fivetran, Google Cloud and Looker at the Wine Tasting Roadshow at the Google office in Berlin.<br><br>Hear from Tim Hiebenthal from one of the leading German VC Project A about the common pitfalls he’s experienced when building a data warehouse for their portfolio companies and how to avoid them.<br><br>The wine tasting will be conducted by the award winning German top 25 sommelier Nils Lackner. During the event we will be tasting one champagne and three high-quality wines, non-alcoholic alternatives will also be available
UID:1776615864addeventcom
SUMMARY:Data Uncorked with DoiT\, Fivetran\, Google Cloud & Looker
DTSTART;TZID=Europe/Berlin:20231025T180000
DTEND;TZID=Europe/Berlin:20231025T220000
DTSTAMP:20260419T162424Z
TRANSP:OPAQUE
STATUS:CONFIRMED
SEQUENCE:0
LOCATION:Google Office Berlin\, Tucholskystr. 2\, 10117 Berlin
X-MICROSOFT-CDO-BUSYSTATUS:BUSY
BEGIN:VALARM
TRIGGER:-PT30M
ACTION:DISPLAY
DESCRIPTION:Reminder
END:VALARM
END:VEVENT
END:VCALENDAR