BEGIN:VCALENDAR
PRODID:-//AddEvent Inc//AddEvent.com v1.7//EN
VERSION:2.0
BEGIN:VTIMEZONE
TZID:America/New_York
BEGIN:STANDARD
DTSTART:20261101T010000
RRULE:FREQ=YEARLY;BYDAY=1SU;BYMONTH=11
TZOFFSETFROM:-0400
TZOFFSETTO:-0500
TZNAME:EST
END:STANDARD
BEGIN:DAYLIGHT
DTSTART:20260308T030000
RRULE:FREQ=YEARLY;BYDAY=2SU;BYMONTH=3
TZOFFSETFROM:-0500
TZOFFSETTO:-0400
TZNAME:EDT
END:DAYLIGHT
END:VTIMEZONE
BEGIN:VEVENT
DESCRIPTION:While you’re navigating the excitement of Shoptalk\, take a moment to join fellow Order Management professionals at the Rí Rá Irish Pub\, Mandalay Bay for Happy Hour.\n\n------\n\nPowered by addevent.com \nShare your next event with us!\n
X-ALT-DESC;FMTTYPE=text/html:While you’re navigating the excitement of Shoptalk, take a moment to join fellow Order Management professionals at the Rí Rá Irish Pub, Mandalay Bay for Happy Hour.<br /><br />------<br /><br />Powered by addevent.com <br>Share your next event with us!<br>
UID:1776615298addeventcom
SUMMARY:Order Management Gurus Happy Hour | Shoptalk Spring 2025
DTSTART;TZID=America/New_York:20250325T170000
DTEND;TZID=America/New_York:20250325T190000
DTSTAMP:20260419T161458Z
TRANSP:OPAQUE
STATUS:CONFIRMED
SEQUENCE:0
LOCATION:3930 Las Vegas Blvd South\, Las Vegas\, 89119\, MA\, USA
X-MICROSOFT-CDO-BUSYSTATUS:BUSY
BEGIN:VALARM
TRIGGER:-PT30M
ACTION:DISPLAY
DESCRIPTION:Reminder
END:VALARM
END:VEVENT
END:VCALENDAR