BEGIN:VCALENDAR
PRODID:-//AddEvent Inc//AddEvent.com v1.7//EN
VERSION:2.0
BEGIN:VEVENT
DESCRIPTION:Online Advertising е конференция на най-високо ниво\, посветена на дигиталния маркетинг. Тази година ще има 3 паралелни направления за специалисти в рекламата и SEO\, представители на бизнеса\, собственици на онлайн магазини и мобилни приложения. Събитието е подходящо за всички\, които желаят да научат от най-добрите на практика как да промотират своя бизнес онлайн.\n\n------\n\nPowered by addevent.com \nShare your next event with us!\n
X-ALT-DESC;FMTTYPE=text/html:Online Advertising е конференция на най-високо ниво, посветена на дигиталния маркетинг. Тази година ще има 3 паралелни направления за специалисти в рекламата и SEO, представители на бизнеса, собственици на онлайн магазини и мобилни приложения. Събитието е подходящо за всички, които желаят да научат от най-добрите на практика как да промотират своя бизнес онлайн.<br /><br />------<br /><br />Powered by addevent.com <br>Share your next event with us!<br>
UID:1777082891addeventcom
SUMMARY:Online Advertising Конференция
DTSTART;VALUE=DATE:20181019
DTEND;VALUE=DATE:20181020
DTSTAMP:20260425T020811Z
TRANSP:OPAQUE
STATUS:CONFIRMED
SEQUENCE:0
LOCATION:София 1407 Sofia Event Center\, бул. Черни връх 100\, мол Парадайс\, ет. 3
X-MICROSOFT-CDO-BUSYSTATUS:BUSY
END:VEVENT
END:VCALENDAR