BEGIN:VCALENDAR
PRODID:-//AddEvent Inc//AddEvent.com v1.7//EN
VERSION:2.0
BEGIN:VTIMEZONE
TZID:Europe/Paris
BEGIN:STANDARD
DTSTART:20261025T020000
RRULE:FREQ=YEARLY;BYDAY=-1SU;BYMONTH=10
TZOFFSETFROM:+0200
TZOFFSETTO:+0100
TZNAME:CET
END:STANDARD
BEGIN:DAYLIGHT
DTSTART:20260329T030000
RRULE:FREQ=YEARLY;BYDAY=-1SU;BYMONTH=3
TZOFFSETFROM:+0100
TZOFFSETTO:+0200
TZNAME:CEST
END:DAYLIGHT
END:VTIMEZONE
BEGIN:VEVENT
DESCRIPTION:https://event.webinarjam.com/go/live/14/xgxoxsvu7sps9\n\n4 Jours pour Te Challenger \n- pour te partager la méthode que j'utilise au sein de mon business et de ma vie pour allier vie personnelle et vie professionnelle\, de façon équilibrée.\n- pour créer une vision claire et cohérente de mon business et surtout alignée à la vie idéale que je me suis engagée à créer.\n\n------\n\nPowered by addevent.com \nShare your next event with us!\n
X-ALT-DESC;FMTTYPE=text/html:<a href="https://event.webinarjam.com/go/live/14/xgxoxsvu7sps9">https://event.webinarjam.com/go/live/14/xgxoxsvu7sps9</a><br><br><strong>4 Jours pour Te Challenger <br /></strong>- pour te partager la méthode que j'utilise au sein de mon business et de ma vie pour allier vie personnelle et vie professionnelle, de façon équilibrée.<br />- pour créer une vision claire et cohérente de mon business et surtout alignée à la vie idéale que je me suis engagée à créer.<br /><br />------<br /><br />Powered by addevent.com <br>Share your next event with us!<br>
UID:1776951134addeventcom
SUMMARY:Oser Changer de Vie - Le Challenge des F2D
DTSTART;TZID=Europe/Paris:20221031T200000
DTEND;TZID=Europe/Paris:20221031T220000
DTSTAMP:20260423T133214Z
TRANSP:OPAQUE
STATUS:CONFIRMED
SEQUENCE:0
RRULE:FREQ=DAILY;COUNT=4
X-MICROSOFT-CDO-BUSYSTATUS:BUSY
BEGIN:VALARM
TRIGGER:-PT30M
ACTION:DISPLAY
DESCRIPTION:Reminder
END:VALARM
END:VEVENT
END:VCALENDAR