BEGIN:VCALENDAR
PRODID:-//AddEvent Inc//AddEvent.com v1.7//EN
VERSION:2.0
BEGIN:VTIMEZONE
TZID:Europe/Paris
BEGIN:STANDARD
DTSTART:20261025T020000
RRULE:FREQ=YEARLY;BYDAY=-1SU;BYMONTH=10
TZOFFSETFROM:+0200
TZOFFSETTO:+0100
TZNAME:CET
END:STANDARD
BEGIN:DAYLIGHT
DTSTART:20260329T030000
RRULE:FREQ=YEARLY;BYDAY=-1SU;BYMONTH=3
TZOFFSETFROM:+0100
TZOFFSETTO:+0200
TZNAME:CEST
END:DAYLIGHT
END:VTIMEZONE
BEGIN:VEVENT
DESCRIPTION:Join The Zoom call here: \nhttps://community.pianogroove.com/t/keith-jarrett-musical-genius-innovator-a-true-living-legend/7905\n\nKeith Jarrett’s career expands over 6 decades\, in which time he has been part of some of the most important jazz groups\, eras and styles of jazz\, extensively recorded jazz\, classical and pop music\, as well as created a unique musical universe\, all still based and derived from tradition of jazz and piano literature. Join this workshop to listen his music\, and share conversations about one of the greatest and interesting characters in music history.
X-ALT-DESC;FMTTYPE=text/html:Join The Zoom call here: <br />https://community.pianogroove.com/t/keith-jarrett-musical-genius-innovator-a-true-living-legend/7905<br><br>Keith Jarrett’s career expands over 6 decades, in which time he has been part of some of the most important jazz groups, eras and styles of jazz, extensively recorded jazz, classical and pop music, as well as created a unique musical universe, all still based and derived from tradition of jazz and piano literature. Join this workshop to listen his music, and share conversations about one of the greatest and interesting characters in music history.
UID:1776606980addeventcom
SUMMARY:Listening Workshop: Keith Jarrett - Musical Genius\, Innovator & A True Living Legend
DTSTART;TZID=Europe/Paris:20220405T180000
DTEND;TZID=Europe/Paris:20220405T190000
DTSTAMP:20260419T135620Z
TRANSP:OPAQUE
STATUS:CONFIRMED
SEQUENCE:0
X-MICROSOFT-CDO-BUSYSTATUS:BUSY
BEGIN:VALARM
TRIGGER:-PT60M
ACTION:DISPLAY
DESCRIPTION:Reminder
END:VALARM
END:VEVENT
END:VCALENDAR