BEGIN:VCALENDAR
PRODID:-//AddEvent Inc//AddEvent.com v1.7//EN
VERSION:2.0
BEGIN:VEVENT
DESCRIPTION:The joint workshop is supported by the Hellenic Ministry of Environment and Energy (Greece).\n\nAddress:\n119\, Mesogeion Ave.\, 11526 Athens\, Greece\n\nTitle:\nApplying circularity principles in contaminated land management within the context of the new EU soil strategy\n\nWorkshop date:\n23 November 2022 - Working groups day\n24 and 25 November 2022 - NICOLE & CF joint workshop\n\nCentral theme:\nAlthough land is still subject to severe degradation processes\, it is probably the most undervalued element of nature. Land and soil are an unquestionably critical parameter of a sustainable Circular Economy even in areas with advanced environmental policy\, such as the EU. This has also been reflected by the absence of a coherent and strategic EU-wide policy framework by the end of 2021\, prior to the launch of the new EU Soil Strategy. Historically contaminated land management has been a national level policy issue\, managed differently by the member states\, resulting in advanced to non-existent contaminated land management policy. In the latter case\, contaminated land management is mostly based on other EU policy instruments\, such as the Environmental Liability Directive and the Industrial Emissions Directive.\n \nApplication of these directives\, however\, does not effectively satisfy the needs of a robust contaminated land management framework. Greece is one such example of a country without a robust contaminated land management framework\, where the experience on the subject is still developing. At the same time several mega-projects are already in progress across the country. Authorities\, services providers and landowners encounter significant decision making\, scientific and management challenges on several topics\, such as land transfer\, remedial targets\, excavated soil reuse etc.\n \nIt is imperative therefore that a coherent EU-wide policy frame and joint tools for contaminated land management supporting all Member States in striving for resource efficiency are considered. In particular\, the new EU Soil Strategy introduces the aspect of “healthy soil” and sets out a framework and concrete measures for soil protection and restoration to ensure the sustainable use of soil by 2050. In this context new policymaking tools regarding\, among others\, excavated soil reuse (“passport for excavated soil”) and the issue of liability transfer (“soil health certificate”) are expected to have a significant role in the new era of contaminated land management in the EU.\n \nThis workshop aims to highlight the new challenges that the EU Soil Strategy brings and promote feasible solutions in the application of circularity principles to the very demanding and complicated topic of contaminated land management across the EU.\n\n------\n\nPowered by addevent.com \nShare your next event with us!\n
X-ALT-DESC;FMTTYPE=text/html:The joint workshop is supported by the Hellenic Ministry of Environment and Energy (Greece).<br><br>Address:<br />119, Mesogeion Ave., 11526 Athens, Greece<br><br>Title:<br />Applying circularity principles in contaminated land management within the context of the new EU soil strategy<br><br>Workshop date:<br />23 November 2022 - Working groups day<br />24 and 25 November 2022 - NICOLE &amp; CF joint workshop<br><br>Central theme:<br />Although land is still subject to severe degradation processes, it is probably the most undervalued element of nature. Land and soil are an unquestionably critical parameter of a sustainable Circular Economy even in areas with advanced environmental policy, such as the EU. This has also been reflected by the absence of a coherent and strategic EU-wide policy framework by the end of 2021, prior to the launch of the new EU Soil Strategy. Historically contaminated land management has been a national level policy issue, managed differently by the member states, resulting in advanced to non-existent contaminated land management policy. In the latter case, contaminated land management is mostly based on other EU policy instruments, such as the Environmental Liability Directive and the Industrial Emissions Directive.<br /> <br />Application of these directives, however, does not effectively satisfy the needs of a robust contaminated land management framework. Greece is one such example of a country without a robust contaminated land management framework, where the experience on the subject is still developing. At the same time several mega-projects are already in progress across the country. Authorities, services providers and landowners encounter significant decision making, scientific and management challenges on several topics, such as land transfer, remedial targets, excavated soil reuse etc.<br /> <br />It is imperative therefore that a coherent EU-wide policy frame and joint tools for contaminated land management supporting all Member States in striving for resource efficiency are considered. In particular, the new EU Soil Strategy introduces the aspect of “healthy soil” and sets out a framework and concrete measures for soil protection and restoration to ensure the sustainable use of soil by 2050. In this context new policymaking tools regarding, among others, excavated soil reuse (“passport for excavated soil”) and the issue of liability transfer (“soil health certificate”) are expected to have a significant role in the new era of contaminated land management in the EU.<br /> <br />This workshop aims to highlight the new challenges that the EU Soil Strategy brings and promote feasible solutions in the application of circularity principles to the very demanding and complicated topic of contaminated land management across the EU.<br /><br />------<br /><br />Powered by addevent.com <br>Share your next event with us!<br>
UID:1776892725addeventcom
SUMMARY:NICOLE Common Forum joint fall Workshop 
DTSTART;VALUE=DATE:20221123
DTEND;VALUE=DATE:20221126
DTSTAMP:20260422T211845Z
TRANSP:OPAQUE
STATUS:CONFIRMED
SEQUENCE:0
LOCATION:119\, Mesogeion Ave.\, 11526 Athens\, Greece
X-MICROSOFT-CDO-BUSYSTATUS:BUSY
BEGIN:VALARM
TRIGGER:-PT10080M
ACTION:DISPLAY
DESCRIPTION:Reminder
END:VALARM
END:VEVENT
END:VCALENDAR