BEGIN:VCALENDAR
PRODID:-//AddEvent Inc//AddEvent.com v1.7//EN
VERSION:2.0
BEGIN:VTIMEZONE
TZID:Europe/Zurich
BEGIN:STANDARD
DTSTART:20261025T020000
RRULE:FREQ=YEARLY;BYDAY=-1SU;BYMONTH=10
TZOFFSETFROM:+0200
TZOFFSETTO:+0100
TZNAME:CET
END:STANDARD
BEGIN:DAYLIGHT
DTSTART:20260329T030000
RRULE:FREQ=YEARLY;BYDAY=-1SU;BYMONTH=3
TZOFFSETFROM:+0100
TZOFFSETTO:+0200
TZNAME:CEST
END:DAYLIGHT
END:VTIMEZONE
BEGIN:VEVENT
DESCRIPTION:IAM-Sicherheit: Wie sehen die Sicherheitsaspekte von IAM und wie ein starke Partnerschaft mit SwissSign oder ti&m dazu beitragen kann\, die Sicherheit von Daten\, Informationen und Ressourcen zu gewährleisten. Aspekte wie starke Authentifizierungsmethoden\, 2-Faktor-Authentifizierung (evtl. mehrere?)\, Zugriffskontrollen\, Richtlinien für Passwortverwaltung und Überwachung von Benutzeraktivitäten.\n \nFallstudie: Kunde präsentiert sein Projekt\, dass bereits erfolgreiche IAM-Implementierungen durchgeführt haben. Diskutiert die Herausforderungen\, die bewältigt werden mussten\, die erreichten Vorteile und die Lektionen\, die aus dem Projekt gelernt wurden.\n\n------\n\nPowered by addevent.com \nShare your next event with us!\n
X-ALT-DESC;FMTTYPE=text/html:<strong>IAM-Sicherheit:</strong> Wie sehen die Sicherheitsaspekte von IAM und wie ein starke Partnerschaft mit SwissSign oder ti&amp;m dazu beitragen kann, die Sicherheit von Daten, Informationen und Ressourcen zu gewährleisten. Aspekte wie starke Authentifizierungsmethoden, 2-Faktor-Authentifizierung (evtl. mehrere?), Zugriffskontrollen, Richtlinien für Passwortverwaltung und Überwachung von Benutzeraktivitäten.<br /> <br /><strong>Fallstudie: </strong>Kunde präsentiert sein Projekt, dass bereits erfolgreiche IAM-Implementierungen durchgeführt haben. Diskutiert die Herausforderungen, die bewältigt werden mussten, die erreichten Vorteile und die Lektionen, die aus dem Projekt gelernt wurden.<br /><br />------<br /><br />Powered by addevent.com <br>Share your next event with us!<br>
UID:1776814151addeventcom
SUMMARY:Aufbau von Vertrauen und Sicherheit im IAM
DTSTART;TZID=Europe/Zurich:20240314T143000
DTEND;TZID=Europe/Zurich:20240314T173000
DTSTAMP:20260421T232911Z
TRANSP:OPAQUE
STATUS:CONFIRMED
SEQUENCE:0
LOCATION:The Circle 1\, Zurich\, Schweiz\, 8058
X-MICROSOFT-CDO-BUSYSTATUS:BUSY
BEGIN:VALARM
TRIGGER:-PT1440M
ACTION:DISPLAY
DESCRIPTION:Reminder
END:VALARM
END:VEVENT
END:VCALENDAR