BEGIN:VCALENDAR
PRODID:-//AddEvent Inc//AddEvent.com v1.7//EN
VERSION:2.0
BEGIN:VTIMEZONE
TZID:America/Los_Angeles
BEGIN:STANDARD
DTSTART:20261101T010000
RRULE:FREQ=YEARLY;BYDAY=1SU;BYMONTH=11
TZOFFSETFROM:-0700
TZOFFSETTO:-0800
TZNAME:PST
END:STANDARD
BEGIN:DAYLIGHT
DTSTART:20260308T030000
RRULE:FREQ=YEARLY;BYDAY=2SU;BYMONTH=3
TZOFFSETFROM:-0800
TZOFFSETTO:-0700
TZNAME:PDT
END:DAYLIGHT
END:VTIMEZONE
BEGIN:VEVENT
DESCRIPTION:Day of HighSpeed Healing® \n\nTime:\nSession # 1 from 10:00 am - 12:30 pm PST\nSession # 2 from 5:00 pm - 7:30 pm PST\n\nJoin Zoom Meeting\nhttps://us02web.zoom.us/j/82493630044\n\nMeeting ID:  824 9363 0044\nPasscode: 729871\nOne tap mobile\n+16694449171\,\,82493630044#\,\,\,\,*729871# US\n+16699006833\,\,82493630044#\,\,\,\,*729871# US (San Jose)\n\nDial by your location\n        +1 669 444 9171 US\n        +1 669 900 6833 US (San Jose)\n        +1 253 205 0468 US\n        +1 253 215 8782 US (Tacoma)\n        +1 346 248 7799 US (Houston)\n        +1 719 359 4580 US\n        +1 689 278 1000 US\n        +1 301 715 8592 US (Washington DC)\n        +1 305 224 1968 US\n        +1 309 205 3325 US\n        +1 312 626 6799 US (Chicago)\n        +1 360 209 5623 US\n        +1 386 347 5053 US\n        +1 507 473 4847 US\n        +1 564 217 2000 US\n        +1 646 558 8656 US (New York)\n        +1 646 931 3860 US\nMeeting ID: 824 9363 0044\nPasscode: 729871\nFind your local number: https://us02web.zoom.us/u/kblBXlS016
X-ALT-DESC;FMTTYPE=text/html:Day of HighSpeed Healing® <br><br>Time:<br />Session # 1 from 10:00 am - 12:30 pm PST<br />Session # 2 from 5:00 pm - 7:30 pm PST<br><br>Join Zoom Meeting<br />https://us02web.zoom.us/j/82493630044<br><br>Meeting ID:  824 9363 0044<br />Passcode: 729871<br />One tap mobile<br />+16694449171,,82493630044#,,,,*729871# US<br />+16699006833,,82493630044#,,,,*729871# US (San Jose)<br><br>Dial by your location<br />        +1 669 444 9171 US<br />        +1 669 900 6833 US (San Jose)<br />        +1 253 205 0468 US<br />        +1 253 215 8782 US (Tacoma)<br />        +1 346 248 7799 US (Houston)<br />        +1 719 359 4580 US<br />        +1 689 278 1000 US<br />        +1 301 715 8592 US (Washington DC)<br />        +1 305 224 1968 US<br />        +1 309 205 3325 US<br />        +1 312 626 6799 US (Chicago)<br />        +1 360 209 5623 US<br />        +1 386 347 5053 US<br />        +1 507 473 4847 US<br />        +1 564 217 2000 US<br />        +1 646 558 8656 US (New York)<br />        +1 646 931 3860 US<br />Meeting ID: 824 9363 0044<br />Passcode: 729871<br />Find your local number: https://us02web.zoom.us/u/kblBXlS016
UID:1777136856addeventcom
SUMMARY:Day of Healing - June 5\, 2023
DTSTART;TZID=America/Los_Angeles:20230605T100000
DTEND;TZID=America/Los_Angeles:20230605T193000
DTSTAMP:20260425T170736Z
TRANSP:OPAQUE
STATUS:CONFIRMED
SEQUENCE:0
X-MICROSOFT-CDO-BUSYSTATUS:BUSY
BEGIN:VALARM
TRIGGER:-PT60M
ACTION:DISPLAY
DESCRIPTION:Reminder
END:VALARM
END:VEVENT
END:VCALENDAR