BEGIN:VCALENDAR
PRODID:-//AddEvent Inc//AddEvent.com v1.7//EN
VERSION:2.0
BEGIN:VTIMEZONE
TZID:Asia/Hebron
BEGIN:STANDARD
DTSTART:20261024T010000
RRULE:FREQ=YEARLY;BYDAY=4SA;BYMONTH=10
TZOFFSETFROM:+0300
TZOFFSETTO:+0200
TZNAME:EET
END:STANDARD
BEGIN:DAYLIGHT
DTSTART:20260328T030000
RRULE:FREQ=YEARLY;BYDAY=-1SA;BYMONTH=3
TZOFFSETFROM:+0200
TZOFFSETTO:+0300
TZNAME:EEST
END:DAYLIGHT
END:VTIMEZONE
BEGIN:VEVENT
DESCRIPTION:As the Executive Director of WITNESS\, which supports human rights defenders and civic journalists worldwide using video and technology\, Sam has been working for years to ensure technological advancements are used for good and not evil. With the rapid pace of developments in AI technologies\, Sam will provide his take\, grounded in WITNESS' ongoing 'Prepare\, Don't Panic' initiative on deceptive AI and deep fakes\, on critical steps needed to 'fortify the truth' and ensure these technologies reflect the needs\, usages and demands of global human rights communities and are not used to deceive\, confuse and harm.\n\n------\n\nPowered by addevent.com \nShare your next event with us!\n
X-ALT-DESC;FMTTYPE=text/html:As the Executive Director of WITNESS, which supports human rights defenders and civic journalists worldwide using video and technology, Sam has been working for years to ensure technological advancements are used for good and not evil. With the rapid pace of developments in AI technologies, Sam will provide his take, grounded in WITNESS' ongoing 'Prepare, Don't Panic' initiative on deceptive AI and deep fakes, on critical steps needed to 'fortify the truth' and ensure these technologies reflect the needs, usages and demands of global human rights communities and are not used to deceive, confuse and harm.<br /><br />------<br /><br />Powered by addevent.com <br>Share your next event with us!<br>
UID:1776699605addeventcom
SUMMARY:Inspirational Speaker: Sam Gregory Prepare\, Don't Panic: How to Ensure a Globally-inclusive Response to Deceptive AI Technologies\, including Deepfakes and Synthetic media
DTSTART;TZID=Asia/Hebron:20240504T141500
DTEND;TZID=Asia/Hebron:20240504T143000
DTSTAMP:20260420T154005Z
TRANSP:OPAQUE
STATUS:CONFIRMED
SEQUENCE:0
X-MICROSOFT-CDO-BUSYSTATUS:BUSY
BEGIN:VALARM
TRIGGER:-PT30M
ACTION:DISPLAY
DESCRIPTION:Reminder
END:VALARM
END:VEVENT
END:VCALENDAR