BEGIN:VCALENDAR
PRODID:-//AddEvent Inc//AddEvent.com v1.7//EN
VERSION:2.0
BEGIN:VTIMEZONE
TZID:America/Los_Angeles
BEGIN:STANDARD
DTSTART:20261101T010000
RRULE:FREQ=YEARLY;BYDAY=1SU;BYMONTH=11
TZOFFSETFROM:-0700
TZOFFSETTO:-0800
TZNAME:PST
END:STANDARD
BEGIN:DAYLIGHT
DTSTART:20260308T030000
RRULE:FREQ=YEARLY;BYDAY=2SU;BYMONTH=3
TZOFFSETFROM:-0800
TZOFFSETTO:-0700
TZNAME:PDT
END:DAYLIGHT
END:VTIMEZONE
BEGIN:VEVENT
DESCRIPTION:Managing Multi-cluster Kubernetes with Tanzu Service Mesh and Tanzu Mission Control with Susan Wu and Tuan Nguyen\n\nAbstract:In the adoption of service mesh technologies\, DevOps and SREs have found challenges in managing microservices deployed on multicloud while meeting enterprise and security requirements. Learn about service mesh technology and multi-cluster management approaches in this power session.\n\nWe will explain and demonstrate Tanzu Service Mesh and Tanzu Mission Control working together to manage a microservices application deployed on Kubernetes clusters stretched across multiple clouds.\n\n------\n\nPowered by addevent.com \nShare your next event with us!\n
X-ALT-DESC;FMTTYPE=text/html:Managing Multi-cluster Kubernetes with Tanzu Service Mesh and Tanzu Mission Control with Susan Wu and Tuan Nguyen<br><br>Abstract:In the adoption of service mesh technologies, DevOps and SREs have found challenges in managing microservices deployed on multicloud while meeting enterprise and security requirements. Learn about service mesh technology and multi-cluster management approaches in this power session.<br />We will explain and demonstrate Tanzu Service Mesh and Tanzu Mission Control working together to manage a microservices application deployed on Kubernetes clusters stretched across multiple clouds.<br /><br />------<br /><br />Powered by addevent.com <br>Share your next event with us!<br>
UID:1777067834addeventcom
SUMMARY:Managing Multi-cluster Kubernetes with Tanzu Service Mesh and Tanzu Mission Control
DTSTART;TZID=America/Los_Angeles:20200519T120000
DTEND;TZID=America/Los_Angeles:20200519T130000
DTSTAMP:20260424T215714Z
TRANSP:OPAQUE
STATUS:CONFIRMED
SEQUENCE:0
X-MICROSOFT-CDO-BUSYSTATUS:BUSY
BEGIN:VALARM
TRIGGER:-PT60M
ACTION:DISPLAY
DESCRIPTION:Reminder
END:VALARM
END:VEVENT
END:VCALENDAR