BEGIN:VCALENDAR
PRODID:-//AddEvent Inc//AddEvent.com v1.7//EN
VERSION:2.0
BEGIN:VTIMEZONE
TZID:Europe/Berlin
BEGIN:STANDARD
DTSTART:20261025T020000
RRULE:FREQ=YEARLY;BYDAY=-1SU;BYMONTH=10
TZOFFSETFROM:+0200
TZOFFSETTO:+0100
TZNAME:CET
END:STANDARD
BEGIN:DAYLIGHT
DTSTART:20260329T030000
RRULE:FREQ=YEARLY;BYDAY=-1SU;BYMONTH=3
TZOFFSETFROM:+0100
TZOFFSETTO:+0200
TZNAME:CEST
END:DAYLIGHT
END:VTIMEZONE
BEGIN:VEVENT
DESCRIPTION:Nimm dir für diesen Workshop ca. 90 Minuten Zeit und suche dir unbedingt ein ruhiges Plätzchen\, an dem du ungestört sein kannst.\n\n🧚🏻 Dabei zeige ich dir:\n\n🔵 ein System bzw. eine Formel\, wie du Altes loslassen und dich vom alten Ballast befreien kannst\n🔵 Journaling-Übung & Challenge\, um in die Handlung zu kommen & emotionale Ordnung zu schaffen\n🔵 EFT-basierte Klopfakupressur für deinen Alltag\, um Vertrauen bis hin zur neuronalen Ebene zu veranker\n\nZoom-Link: https://us02web.zoom.us/j/83505952321?pwd=YWJpamh0cHAxRjM0SWdmcW45U0tvUT09\n\n------\n\nPowered by addevent.com \nShare your next event with us!\n
X-ALT-DESC;FMTTYPE=text/html:Nimm dir für diesen Workshop ca. 90 Minuten Zeit und suche dir unbedingt ein ruhiges Plätzchen, an dem du ungestört sein kannst.<br><br>🧚🏻 <strong>Dabei zeige ich dir:</strong><br><br>🔵 ein <strong>System</strong> bzw. eine Formel, wie du <strong>Altes loslassen</strong> und dich vom alten Ballast befreien kannst<br />🔵 Journaling-Übung &amp; Challenge, um in die Handlung zu kommen &amp; emotionale Ordnung zu schaffen<br />🔵 EFT-basierte Klopfakupressur für deinen Alltag, um Vertrauen bis hin zur neuronalen Ebene zu veranker<br><br>Zoom-Link: <a data-fr-linked="true" href="https://us02web.zoom.us/j/83505952321?pwd=YWJpamh0cHAxRjM0SWdmcW45U0tvUT09">https://us02web.zoom.us/j/83505952321?pwd=YWJpamh0cHAxRjM0SWdmcW45U0tvUT09</a><br /><br />------<br /><br />Powered by addevent.com <br>Share your next event with us!<br>
UID:1776938652addeventcom
SUMMARY:Workshop "Clean up for emotional freedom"
DTSTART;TZID=Europe/Berlin:20240523T190000
DTEND;TZID=Europe/Berlin:20240523T203000
DTSTAMP:20260423T100412Z
TRANSP:OPAQUE
STATUS:CONFIRMED
SEQUENCE:0
LOCATION:https://us02web.zoom.us/j/83505952321?pwd=YWJpamh0cHAxRjM0SWdmcW45U0tvUT09
X-MICROSOFT-CDO-BUSYSTATUS:BUSY
BEGIN:VALARM
TRIGGER:-PT30M
ACTION:DISPLAY
DESCRIPTION:Reminder
END:VALARM
END:VEVENT
END:VCALENDAR