BEGIN:VCALENDAR
PRODID:-//AddEvent Inc//AddEvent.com v1.7//EN
VERSION:2.0
BEGIN:VTIMEZONE
TZID:Europe/Berlin
BEGIN:STANDARD
DTSTART:20261025T020000
RRULE:FREQ=YEARLY;BYDAY=-1SU;BYMONTH=10
TZOFFSETFROM:+0200
TZOFFSETTO:+0100
TZNAME:CET
END:STANDARD
BEGIN:DAYLIGHT
DTSTART:20260329T030000
RRULE:FREQ=YEARLY;BYDAY=-1SU;BYMONTH=3
TZOFFSETFROM:+0100
TZOFFSETTO:+0200
TZNAME:CEST
END:DAYLIGHT
END:VTIMEZONE
BEGIN:VEVENT
DESCRIPTION:We're excited to invite you to our event showcasing the latest developments on the ZDHC platforms. Get firsthand insights into the progress of our projects like the ZDHC Gateway\, Academy\, DETOX.live\, and more. Enjoy an immersive experience as we share updates and give you exclusive access to a range of videos in our Virtual Environment\, available before or after the event. The event agenda\, filled with engaging and informative sessions\, will be shared soon.\n\nWe look forward to welcoming you to this event\, a chance for us to connect\, share\, and learn together. Stay tuned for more information and don't forget to register!\n\nSee you soon!\n\n------\n\nPowered by addevent.com \nShare your next event with us!\n
X-ALT-DESC;FMTTYPE=text/html:We're excited to invite you to our event showcasing the latest developments on the ZDHC platforms. Get firsthand insights into the progress of our projects like the ZDHC Gateway, Academy, DETOX.live, and more. Enjoy an immersive experience as we share updates and give you exclusive access to a range of videos in our Virtual Environment, available before or after the event. The event agenda, filled with engaging and informative sessions, will be shared soon.<br><br>We look forward to welcoming you to this event, a chance for us to connect, share, and learn together. Stay tuned for more information and don't forget to register!<br><br>See you soon!<br /><br />------<br /><br />Powered by addevent.com <br>Share your next event with us!<br>
UID:1776950845addeventcom
SUMMARY:ZDHC Platforms Event
DTSTART;TZID=Europe/Berlin:20230524T100000
DTEND;TZID=Europe/Berlin:20230524T130000
DTSTAMP:20260423T132725Z
TRANSP:OPAQUE
STATUS:CONFIRMED
SEQUENCE:0
LOCATION:ZDHC Virtual Environment
X-MICROSOFT-CDO-BUSYSTATUS:BUSY
BEGIN:VALARM
TRIGGER:-PT30M
ACTION:DISPLAY
DESCRIPTION:Reminder
END:VALARM
END:VEVENT
END:VCALENDAR