BEGIN:VCALENDAR
PRODID:-//AddEvent Inc//AddEvent.com v1.7//EN
VERSION:2.0
BEGIN:VTIMEZONE
TZID:Asia/Nicosia
BEGIN:STANDARD
DTSTART:20261025T030000
RRULE:FREQ=YEARLY;BYDAY=-1SU;BYMONTH=10
TZOFFSETFROM:+0300
TZOFFSETTO:+0200
TZNAME:EET
END:STANDARD
BEGIN:DAYLIGHT
DTSTART:20260329T040000
RRULE:FREQ=YEARLY;BYDAY=-1SU;BYMONTH=3
TZOFFSETFROM:+0200
TZOFFSETTO:+0300
TZNAME:EEST
END:DAYLIGHT
END:VTIMEZONE
BEGIN:VEVENT
DESCRIPTION:Professor Christos Argirusis\, director of the Laboratory of Inorganic Materials Technology of the National Technical University of Athens\, and Dr Georgia Sourkouni\, Senior Researcher in the Clausthal Center for Materials Technology of the Clausthal University of Technology\, will discuss the topic of Bioenergy Production from the perspective of their related fields\, in a hybrid talk on Wednesday\, November 15\, 2023\, in the context of the 6th Cycle Lecture Series on Chemical Engineering – Environmental Engineering and Environmental Conservation.\nThe event that will start at 18:00 GMT+2 will be held at the main OUC building in Nicosia (33 Yiannou Kranidioti Avenue\, 2220 Latsia)\, and will be broadcasted live through the OUC eLearning tools at this weblink: https://tinyurl.com/bddunxsp\n\n------\n\nPowered by addevent.com \nShare your next event with us!\n
X-ALT-DESC;FMTTYPE=text/html:<strong>Professor Christos Argirusis,</strong> director of the Laboratory of Inorganic Materials Technology of the National Technical University of Athens, and <strong>Dr Georgia Sourkouni, </strong>Senior Researcher in the Clausthal Center for Materials Technology of the Clausthal University of Technology, will discuss the topic of <strong>Bioenergy Production</strong> from the perspective of their related fields, in a <strong>hybrid talk on Wednesday, November 15, 2023, in the context of the 6th Cycle Lecture Series on Chemical Engineering – Environmental Engineering and Environmental Conservation.</strong><br />The event that will start <strong>at 18:00 GMT+2</strong> will be held at the main OUC building in Nicosia (33 Yiannou Kranidioti Avenue, 2220 Latsia), and will be broadcasted live through the OUC eLearning tools at this weblink: <a href="https://tinyurl.com/bddunxsp">https://tinyurl.com/bddunxsp</a><br /><br />------<br /><br />Powered by addevent.com <br>Share your next event with us!<br>
UID:1776670510addeventcom
SUMMARY:Hybrid scientific talks on Bioenergy Production
DTSTART;TZID=Asia/Nicosia:20231115T180000
DTEND;TZID=Asia/Nicosia:20231115T200000
DTSTAMP:20260420T073510Z
TRANSP:OPAQUE
STATUS:CONFIRMED
SEQUENCE:0
LOCATION:ΑΠΚΥ & Διαδικτυακά
X-MICROSOFT-CDO-BUSYSTATUS:BUSY
BEGIN:VALARM
TRIGGER:-PT120M
ACTION:DISPLAY
DESCRIPTION:Reminder
END:VALARM
END:VEVENT
END:VCALENDAR