BEGIN:VCALENDAR
PRODID:-//AddEvent Inc//AddEvent.com v1.7//EN
VERSION:2.0
BEGIN:VTIMEZONE
TZID:Asia/Dubai
BEGIN:STANDARD
DTSTART:19700101T040000
TZOFFSETFROM:+0400
TZOFFSETTO:+0400
TZNAME:+04
END:STANDARD
END:VTIMEZONE
BEGIN:VEVENT
DESCRIPTION:\n\n------\n\nPowered by addevent.com \nShare your next event with us!\n
X-ALT-DESC;FMTTYPE=text/html:<br /><br />------<br /><br />Powered by addevent.com <br>Share your next event with us!<br>
UID:1777023155addeventcom
SUMMARY:Seven Seas MSP End Customer Launch Event
DTSTART;TZID=Asia/Dubai:20230615T090000
DTEND;TZID=Asia/Dubai:20230615T130000
DTSTAMP:20260424T093235Z
TRANSP:OPAQUE
STATUS:CONFIRMED
SEQUENCE:0
X-MICROSOFT-CDO-BUSYSTATUS:BUSY
BEGIN:VALARM
TRIGGER:-PT60M
ACTION:DISPLAY
DESCRIPTION:Reminder
END:VALARM
END:VEVENT
END:VCALENDAR