BEGIN:VCALENDAR
PRODID:-//AddEvent Inc//AddEvent.com v1.7//EN
VERSION:2.0
BEGIN:VTIMEZONE
TZID:Asia/Shanghai
BEGIN:STANDARD
DTSTART:19910915T010000
TZOFFSETFROM:+0800
TZOFFSETTO:+0800
TZNAME:CST
END:STANDARD
END:VTIMEZONE
BEGIN:VEVENT
DESCRIPTION:会议时间：2021年3月4日，下午4点到5点\n\nhttps://meeting.tencent.com/s/oiVc3UJcUF6D - 209 948 461\n\n------\n\nPowered by addevent.com \nShare your next event with us!\n
X-ALT-DESC;FMTTYPE=text/html:会议时间：2021年3月4日，下午4点到5点<br />https://meeting.tencent.com/s/oiVc3UJcUF6D - 209 948 461<br /><br />------<br /><br />Powered by addevent.com <br>Share your next event with us!<br>
UID:1776720976addeventcom
SUMMARY:量子计算测控系统: 新一代量子分析仪
DTSTART;TZID=Asia/Shanghai:20210304T160000
DTEND;TZID=Asia/Shanghai:20210304T170000
DTSTAMP:20260420T213616Z
TRANSP:OPAQUE
STATUS:CONFIRMED
SEQUENCE:0
LOCATION:https://meeting.tencent.com/s/oiVc3UJcUF6D
X-MICROSOFT-CDO-BUSYSTATUS:BUSY
BEGIN:VALARM
TRIGGER:-PT30M
ACTION:DISPLAY
DESCRIPTION:Reminder
END:VALARM
END:VEVENT
END:VCALENDAR