BEGIN:VCALENDAR
PRODID:-//AddEvent Inc//AddEvent.com v1.7//EN
VERSION:2.0
BEGIN:VTIMEZONE
TZID:America/New_York
BEGIN:STANDARD
DTSTART:20261101T010000
RRULE:FREQ=YEARLY;BYDAY=1SU;BYMONTH=11
TZOFFSETFROM:-0400
TZOFFSETTO:-0500
TZNAME:EST
END:STANDARD
BEGIN:DAYLIGHT
DTSTART:20260308T030000
RRULE:FREQ=YEARLY;BYDAY=2SU;BYMONTH=3
TZOFFSETFROM:-0500
TZOFFSETTO:-0400
TZNAME:EDT
END:DAYLIGHT
END:VTIMEZONE
BEGIN:VEVENT
DESCRIPTION:The U.S. Dept. of Defense (DoD) is the largest employer in the world with approximately 3.2 million employees. When it comes to its civilian workforce (about 900\,000 employees) the DoD requires highly motivated\, skilled\, and productive staff to enable its workforce. To support and enable these qualities\, the DoD needed to streamline and integrate HR processes across the organization and empower the workforce to operate more efficiently and effectively. In this session\, learn how the DoD is leveraging Oracle HCM Cloud to provide a simplified and intuitive end-user experience that fosters and encourages the productivity of its civilian workforce.\n\nTune in at: https://oracleonefederal.govexec.com/
X-ALT-DESC;FMTTYPE=text/html:The U.S. Dept. of Defense (DoD) is the largest employer in the world with approximately 3.2 million employees. When it comes to its civilian workforce (about 900,000 employees) the DoD requires highly motivated, skilled, and productive staff to enable its workforce. To support and enable these qualities, the DoD needed to streamline and integrate HR processes across the organization and empower the workforce to operate more efficiently and effectively. In this session, learn how the DoD is leveraging Oracle HCM Cloud to provide a simplified and intuitive end-user experience that fosters and encourages the productivity of its civilian workforce.<br><br>Tune in at: https://oracleonefederal.govexec.com/
UID:1777079385addeventcom
SUMMARY:Oracle One Federal: Providing Common Defense and Transforming DoD’s Workforce
DTSTART;TZID=America/New_York:20210519T130000
DTEND;TZID=America/New_York:20210519T140000
DTSTAMP:20260425T010945Z
TRANSP:OPAQUE
STATUS:CONFIRMED
SEQUENCE:0
X-MICROSOFT-CDO-BUSYSTATUS:BUSY
BEGIN:VALARM
TRIGGER:-PT30M
ACTION:DISPLAY
DESCRIPTION:Reminder
END:VALARM
END:VEVENT
END:VCALENDAR