BEGIN:VCALENDAR
PRODID:-//AddEvent Inc//AddEvent.com v1.7//EN
VERSION:2.0
BEGIN:VTIMEZONE
TZID:Europe/Berlin
BEGIN:STANDARD
DTSTART:20261025T020000
RRULE:FREQ=YEARLY;BYDAY=-1SU;BYMONTH=10
TZOFFSETFROM:+0200
TZOFFSETTO:+0100
TZNAME:CET
END:STANDARD
BEGIN:DAYLIGHT
DTSTART:20260329T030000
RRULE:FREQ=YEARLY;BYDAY=-1SU;BYMONTH=3
TZOFFSETFROM:+0100
TZOFFSETTO:+0200
TZNAME:CEST
END:DAYLIGHT
END:VTIMEZONE
BEGIN:VEVENT
DESCRIPTION:Tune in Tuesday\, September 9\, at 12:30 p.m. CEST for a keynote by Ali Kani\, Vice President of NVIDIA Automotive.\n\nThe keynote will showcase how NVIDIA is  accelerating the future of autonomous driving with a cloud-to-car platform. Learn how the latest AI\, data curation\, and simulation technologies are being used to train and validate safe and intelligent driving systems.\n\nWatch the livestream https://youtube.com/live/N17umKsCPao or for those in person\, join us at the Summit Stage.
X-ALT-DESC;FMTTYPE=text/html:Tune in Tuesday, September 9, at 12:30 p.m. CEST for a keynote by Ali Kani, Vice President of NVIDIA Automotive.<br><br>The keynote will showcase how NVIDIA is  accelerating the future of autonomous driving with a cloud-to-car platform. Learn how the latest AI, data curation, and simulation technologies are being used to train and validate safe and intelligent driving systems.<br><br>Watch the <a data-sk="tooltip_parent" data-stringify-link="https://youtube.com/live/N17umKsCPao" href="https://youtube.com/live/N17umKsCPao" rel="noopener noreferrer" target="_blank">livestream</a> or for those in person, join us at the Summit Stage.
UID:1777113546addeventcom
SUMMARY:NVIDIA Keynote at IAA Mobility
DTSTART;TZID=Europe/Berlin:20250909T123000
DTEND;TZID=Europe/Berlin:20250909T133000
DTSTAMP:20260425T103906Z
TRANSP:OPAQUE
STATUS:CONFIRMED
SEQUENCE:0
X-MICROSOFT-CDO-BUSYSTATUS:BUSY
BEGIN:VALARM
TRIGGER:-PT30M
ACTION:DISPLAY
DESCRIPTION:Reminder
END:VALARM
END:VEVENT
END:VCALENDAR