BEGIN:VCALENDAR
PRODID:-//AddEvent Inc//AddEvent.com v1.7//EN
VERSION:2.0
BEGIN:VTIMEZONE
TZID:America/Los_Angeles
BEGIN:STANDARD
DTSTART:20261101T010000
RRULE:FREQ=YEARLY;BYDAY=1SU;BYMONTH=11
TZOFFSETFROM:-0700
TZOFFSETTO:-0800
TZNAME:PST
END:STANDARD
BEGIN:DAYLIGHT
DTSTART:20260308T030000
RRULE:FREQ=YEARLY;BYDAY=2SU;BYMONTH=3
TZOFFSETFROM:-0800
TZOFFSETTO:-0700
TZNAME:PDT
END:DAYLIGHT
END:VTIMEZONE
BEGIN:VEVENT
DESCRIPTION:Free Webinar with Christina Hills on The Top 10 WordPress Plugins Every Website Needs and Why. Go here for the GoToWebinar event: https://register.gotowebinar.com/register/3140258435701576282
X-ALT-DESC;FMTTYPE=text/html:Free Webinar with Christina Hills on The Top 10 WordPress Plugins Every Website Needs and Why. Go here for the GoToWebinar event: <a data-fr-linked="true" href="https://register.gotowebinar.com/register/3140258435701576282">https://register.gotowebinar.com/register/3140258435701576282</a>
UID:1776776089addeventcom
SUMMARY:Christina Hills Webinar: The Top 10 WordPress Plugins Every Website Needs and Why
DTSTART;TZID=America/Los_Angeles:20251001T120000
DTEND;TZID=America/Los_Angeles:20251001T133000
DTSTAMP:20260421T125449Z
TRANSP:OPAQUE
STATUS:CONFIRMED
SEQUENCE:0
LOCATION:Online
X-MICROSOFT-CDO-BUSYSTATUS:BUSY
BEGIN:VALARM
TRIGGER:-PT30M
ACTION:DISPLAY
DESCRIPTION:Reminder
END:VALARM
END:VEVENT
END:VCALENDAR