BEGIN:VCALENDAR
PRODID:-//AddEvent Inc//AddEvent.com v1.7//EN
VERSION:2.0
BEGIN:VTIMEZONE
TZID:Europe/London
BEGIN:STANDARD
DTSTART:20261025T010000
RRULE:FREQ=YEARLY;BYDAY=-1SU;BYMONTH=10
TZOFFSETFROM:+0100
TZOFFSETTO:+0000
TZNAME:GMT
END:STANDARD
BEGIN:DAYLIGHT
DTSTART:20260329T020000
RRULE:FREQ=YEARLY;BYDAY=-1SU;BYMONTH=3
TZOFFSETFROM:+0000
TZOFFSETTO:+0100
TZNAME:BST
END:DAYLIGHT
END:VTIMEZONE
BEGIN:VEVENT
DESCRIPTION:RHL53 Appeal Public Hearing\n\nTuesday 13th & Wednesday 14th February\n\nSADC Council Chamber\, Civic Centre\n\n53 DWELLINGS BEHIND RAGGED HALL LANE \n\nThe appeal to the Planning Inspectorate for the application to build 53 new dwellings on Green Belt land between Ragged Hall Lane and Westfields Farm is scheduled to begin at 10am on Tuesday 13th February in the Council Chamber at the Civic Offices in St Albans. The hearing is expected to continue on Wednesday 14th February. \n\nThis will be an important decision and will show us the fundamental guidelines that PINS has been given by the Government regarding protections for the Green Belt.\n \nPLEASE ATTEND IF YOU CAN!\n(Even if you can only manage to be there for part of the hearing.)\n\nAll members of the public are welcome to attend and you are allowed to enter and leave at any timeduring the proceedings. \n\nThe event will also be live-streamed\, and the numbers of people watching are noted and show the amount of public interest in the hearing - so if you can't attend PLEASE open the live stream and leave it open. We will provide the link to the webcast as soon as it is published.\n\nThank you as always for your continued support!\n\nTogether we can Keep Chiswell Green!\n\n\n\n------\n\nPowered by addevent.com \nShare your next event with us!\n
X-ALT-DESC;FMTTYPE=text/html:<table border="0" cellpadding="0"><tbody><tr><td><table border="0" cellpadding="0"><tbody><tr><td><table><tbody><tr><td><div style="text-align: center;"><strong><span style="color: #ff0000;">RHL53 Appeal Public Hearing</span></strong></div><div style="text-align: center;"><strong><span style="color: #ff0000;">Tuesday 13th &amp; Wednesday 14th February</span></strong></div><div style="text-align: center;"><strong><span style="color: #ff0000;">SADC Council Chamber, Civic Centre</span></strong></div><br />53 DWELLINGS BEHIND RAGGED HALL LANE <br><br>The appeal to the Planning Inspectorate for the application to build 53 new dwellings on Green Belt land between Ragged Hall Lane and Westfields Farm is scheduled to begin at <strong>10am on Tuesday 13th February in the Council Chamber</strong> at the Civic Offices in St Albans. The hearing is expected to continue on Wednesday 14th February. <br><br>This will be an important decision and will show us the fundamental guidelines that PINS has been given by the Government regarding protections for the Green Belt.<br /> <br /><strong>PLEASE ATTEND IF YOU CAN!</strong><br />(Even if you can only manage to be there for part of the hearing.)<br><br>All members of the public are welcome to attend and y<strong>ou are allowed to enter and leave at any time</strong>during the proceedings. <div style="text-align: left;"><br /></div>The event will also be live-streamed, and the numbers of people watching are noted and show the amount of public interest in the hearing - so if you can't attend <strong>PLEASE open the live stream and leave it open</strong>. We will provide the link to the webcast as soon as it is published.<br><br>Thank you as always for your continued support!<br><br>Together we can Keep Chiswell Green!<br><br></td></tr></tbody></table></td></tr></tbody></table></td></tr></tbody></table><table border="0" cellpadding="0"><tbody><tr><td><table border="0" cellpadding="0"><tbody><tr><td><br /></td></tr></tbody></table></td></tr></tbody></table><br /><br />------<br /><br />Powered by addevent.com <br>Share your next event with us!<br>
UID:1776653367addeventcom
SUMMARY:Ragged Hall Lane Appeal Hearing (RHL53)
DTSTART;TZID=Europe/London:20240213T090000
DTEND;TZID=Europe/London:20240214T170000
DTSTAMP:20260420T024927Z
TRANSP:OPAQUE
STATUS:CONFIRMED
SEQUENCE:0
LOCATION:St Albans City & District Council\, Civic Centre\, St Peter's St\, ST. ALBANS\, AL1 3JE\, United Kingdom
X-MICROSOFT-CDO-BUSYSTATUS:BUSY
BEGIN:VALARM
TRIGGER:-PT60M
ACTION:DISPLAY
DESCRIPTION:Reminder
END:VALARM
END:VEVENT
END:VCALENDAR