BEGIN:VCALENDAR
PRODID:-//AddEvent Inc//AddEvent.com v1.7//EN
VERSION:2.0
BEGIN:VTIMEZONE
TZID:Africa/Johannesburg
BEGIN:STANDARD
DTSTART:19700101T020000
TZOFFSETFROM:+0200
TZOFFSETTO:+0200
TZNAME:SAST
END:STANDARD
END:VTIMEZONE
BEGIN:VEVENT
DESCRIPTION:VC4A and ABAN are pleased to announce that we will be hosting the 7th edition of the Africa Early Stage Investor Summit (#AESIS2020) on November 3rd and 4th 2020.\n\nThis year the annual ‘for investors\, by investors’ event bringing together Africa’s early stage investor community\, will be fully virtual. On www.africainvestorsummit.com you will be able to sign up for everything happening at the Summit\, discover deal flow\, and network with fellow investors. Join now and make sure to sign up for #AESIS2020 on time.
X-ALT-DESC;FMTTYPE=text/html:VC4A and ABAN are pleased to announce that we will be hosting the 7th edition of the Africa Early Stage Investor Summit (#AESIS2020) on November 3rd and 4th 2020.<br><br>This year the annual ‘for investors, by investors’ event bringing together Africa’s early stage investor community, will be fully virtual. On www.africainvestorsummit.com you will be able to sign up for everything happening at the Summit, discover deal flow, and network with fellow investors. Join now and make sure to sign up for #AESIS2020 on time.
UID:1776966242addeventcom
SUMMARY:Africa Early Stage Investor Summit 2020 - Virtual edition
DTSTART;TZID=Africa/Johannesburg:20201103T130000
DTEND;TZID=Africa/Johannesburg:20201104T180000
DTSTAMP:20260423T174402Z
TRANSP:OPAQUE
STATUS:CONFIRMED
SEQUENCE:0
LOCATION:www.africainvestorsummit.com
X-MICROSOFT-CDO-BUSYSTATUS:BUSY
BEGIN:VALARM
TRIGGER:-PT1440M
ACTION:DISPLAY
DESCRIPTION:Reminder
END:VALARM
END:VEVENT
END:VCALENDAR