BEGIN:VCALENDAR
PRODID:-//AddEvent Inc//AddEvent.com v1.7//EN
VERSION:2.0
BEGIN:VTIMEZONE
TZID:America/New_York
BEGIN:STANDARD
DTSTART:20261101T010000
RRULE:FREQ=YEARLY;BYDAY=1SU;BYMONTH=11
TZOFFSETFROM:-0400
TZOFFSETTO:-0500
TZNAME:EST
END:STANDARD
BEGIN:DAYLIGHT
DTSTART:20260308T030000
RRULE:FREQ=YEARLY;BYDAY=2SU;BYMONTH=3
TZOFFSETFROM:-0500
TZOFFSETTO:-0400
TZNAME:EDT
END:DAYLIGHT
END:VTIMEZONE
BEGIN:VEVENT
DESCRIPTION:As many transition from being in a classroom or in an office to working from home\, join Samantha to discuss effective daily strategies for maintaining utmost productivity levels and positive mindsets during this time of physical distancing and social connection.\n\nHosted by: Samantha Wang\, Washington D.C.\, U.S. Alumni Ambassador\n\n------\n\nPowered by addevent.com \nShare your next event with us!\n
X-ALT-DESC;FMTTYPE=text/html:As many transition from being in a classroom or in an office to working from home, join Samantha to discuss effective daily strategies for maintaining utmost productivity levels and positive mindsets during this time of physical distancing and social connection.<br><br>Hosted by: Samantha Wang, Washington D.C., U.S. Alumni Ambassador<br /><br />------<br /><br />Powered by addevent.com <br>Share your next event with us!<br>
UID:1777060045addeventcom
SUMMARY:CGI U Alumni Led Video Chat: Staying Productive During Work/Study From Home
DTSTART;TZID=America/New_York:20200408T170000
DTEND;TZID=America/New_York:20200408T180000
DTSTAMP:20260424T194725Z
TRANSP:OPAQUE
STATUS:CONFIRMED
SEQUENCE:0
LOCATION:https://meetingsamer6.webex.com/webappng/sites/meetingsamer6/meeting/download/16f0b02ca93c9ef5c649b4b06915856f
X-MICROSOFT-CDO-BUSYSTATUS:BUSY
BEGIN:VALARM
TRIGGER:-PT30M
ACTION:DISPLAY
DESCRIPTION:Reminder
END:VALARM
END:VEVENT
END:VCALENDAR