BEGIN:VCALENDAR
PRODID:-//AddEvent Inc//AddEvent.com v1.7//EN
VERSION:2.0
BEGIN:VTIMEZONE
TZID:Asia/Tokyo
BEGIN:STANDARD
DTSTART:19700101T090000
TZOFFSETFROM:+0900
TZOFFSETTO:+0900
TZNAME:JST
END:STANDARD
END:VTIMEZONE
BEGIN:VEVENT
DESCRIPTION:Join webinar at https://app.webinar.net/k3QK2apxnL1
X-ALT-DESC;FMTTYPE=text/html:Join webinar at <span data-contrast="auto" lang="EN-US">https://app.webinar.net/k3QK2apxnL1</span>
UID:1776611090addeventcom
SUMMARY:Latest Developments and Insights: Japan’s Whistleblowing Law
DTSTART;TZID=Asia/Tokyo:20240521T150000
DTEND;TZID=Asia/Tokyo:20240521T160000
DTSTAMP:20260419T150450Z
TRANSP:OPAQUE
STATUS:CONFIRMED
SEQUENCE:0
LOCATION:https://app.webinar.net/k3QK2apxnL1
X-MICROSOFT-CDO-BUSYSTATUS:BUSY
BEGIN:VALARM
TRIGGER:-PT30M
ACTION:DISPLAY
DESCRIPTION:Reminder
END:VALARM
END:VEVENT
END:VCALENDAR