BEGIN:VCALENDAR
PRODID:-//AddEvent Inc//AddEvent.com v1.7//EN
VERSION:2.0
BEGIN:VTIMEZONE
TZID:Europe/Paris
BEGIN:STANDARD
DTSTART:20261025T020000
RRULE:FREQ=YEARLY;BYDAY=-1SU;BYMONTH=10
TZOFFSETFROM:+0200
TZOFFSETTO:+0100
TZNAME:CET
END:STANDARD
BEGIN:DAYLIGHT
DTSTART:20260329T030000
RRULE:FREQ=YEARLY;BYDAY=-1SU;BYMONTH=3
TZOFFSETFROM:+0100
TZOFFSETTO:+0200
TZNAME:CEST
END:DAYLIGHT
END:VTIMEZONE
BEGIN:VEVENT
DESCRIPTION:10 bonnes pratiques dans l’Europe des festivals\n\nWeezevent vous propose un tour d’horizon des initiatives les plus marquantes observées sur la scène festivalière européenne en 2025. De la billetterie et du contrôle d’accès à l’innovation cashless\, en passant par le merchandising\, le digital et la relation avec les publics\, nous partagerons dix bonnes pratiques concrètes mises en œuvre par des organisateurs emblématiques. Vous découvrirez comment ces festivals ont su optimiser leurs ventes\, fluidifier leurs opérations et enrichir l’expérience des festivaliers.\n\nAvec plus de 400 festivals accompagnés par an dans 16 pays\, nous vous livrons un panorama d’idées directement applicables et adaptables à vos projets. Une conférence conçue pour élargir vos perspectives\, nourrir vos réflexions et vous donner des pistes concrètes pour préparer vos prochaines éditions.\n\n\n\n------\n\nPowered by addevent.com \nShare your next event with us!\n
X-ALT-DESC;FMTTYPE=text/html:<p dir="ltr"><strong>10 bonnes pratiques dans l’Europe des festivals</strong></p><p dir="ltr">Weezevent vous propose un tour d’horizon des initiatives les plus marquantes observées sur la scène festivalière européenne en 2025. De la billetterie et du contrôle d’accès à l’innovation cashless, en passant par le merchandising, le digital et la relation avec les publics, nous partagerons dix bonnes pratiques concrètes mises en œuvre par des organisateurs emblématiques. Vous découvrirez comment ces festivals ont su optimiser leurs ventes, fluidifier leurs opérations et enrichir l’expérience des festivaliers.</p><p dir="ltr">Avec plus de 400 festivals accompagnés par an dans 16 pays, nous vous livrons un panorama d’idées directement applicables et adaptables à vos projets. Une conférence conçue pour élargir vos perspectives, nourrir vos réflexions et vous donner des pistes concrètes pour préparer vos prochaines éditions.</p><br /><br />------<br /><br />Powered by addevent.com <br>Share your next event with us!<br>
UID:1777074914addeventcom
SUMMARY:MaMA - Conférence Weezevent
DTSTART;TZID=Europe/Paris:20251015T164500
DTEND;TZID=Europe/Paris:20251015T174500
DTSTAMP:20260424T235514Z
TRANSP:OPAQUE
STATUS:CONFIRMED
SEQUENCE:0
LOCATION:L'Élysée Montmartre\, 72 Boulevard Marguerite de Rochechouart\, 75018 Paris
X-MICROSOFT-CDO-BUSYSTATUS:BUSY
BEGIN:VALARM
TRIGGER:-PT30M
ACTION:DISPLAY
DESCRIPTION:Reminder
END:VALARM
END:VEVENT
END:VCALENDAR