BEGIN:VCALENDAR
PRODID:-//AddEvent Inc//AddEvent.com v1.7//EN
VERSION:2.0
BEGIN:VTIMEZONE
TZID:America/New_York
BEGIN:STANDARD
DTSTART:20261101T010000
RRULE:FREQ=YEARLY;BYDAY=1SU;BYMONTH=11
TZOFFSETFROM:-0400
TZOFFSETTO:-0500
TZNAME:EST
END:STANDARD
BEGIN:DAYLIGHT
DTSTART:20260308T030000
RRULE:FREQ=YEARLY;BYDAY=2SU;BYMONTH=3
TZOFFSETFROM:-0500
TZOFFSETTO:-0400
TZNAME:EDT
END:DAYLIGHT
END:VTIMEZONE
BEGIN:VEVENT
DESCRIPTION:In this free workshop\, I'm sharing my top strategies for becoming a successful coach that earns 6+ figures a year in the easiest\, most aligned way possible.\n\nDuring this free pop-up class\, I’ll be revealing how to…\n\n• Craft a one-of-a-kind High-Ticket Coaching Offer\n• Master the mindset\, vibe & energy of a 100K coach\n• Attract your most ideal High-End Clients easily and consistently\n• Map out a solid Plan of Action to get you to your 100K goal \n\n\n\n------\n\nPowered by addevent.com \nShare your next event with us!\n
X-ALT-DESC;FMTTYPE=text/html:In this free workshop, I'm sharing my top strategies for becoming a successful coach that earns 6+ figures a year in the easiest, most aligned way possible.<br><br>During this free pop-up class, I’ll be revealing how to…<br /><ul><li dir="ltr">Craft a <strong>one-of-a-kind High-Ticket Coaching Offer</strong></li><li dir="ltr"><strong>Master the mindset,</strong> vibe &amp; energy of a 100K coach</li><li dir="ltr"><strong>Attract your most ideal High-End Clients</strong> easily and consistently</li><li dir="ltr">Map out a solid <strong>Plan of Action to get you to your 100K goal</strong> </li></ul><br /><br />------<br /><br />Powered by addevent.com <br>Share your next event with us!<br>
UID:1776965284addeventcom
SUMMARY:100K Coach™ Workshop
DTSTART;TZID=America/New_York:20230615T120000
DTEND;TZID=America/New_York:20230615T130000
DTSTAMP:20260423T172804Z
TRANSP:OPAQUE
STATUS:CONFIRMED
SEQUENCE:0
LOCATION:https://us02web.zoom.us/j/81757927510?pwd=RTFJMFl1M0theW5HSEU3MVNUTXFqdz09
X-MICROSOFT-CDO-BUSYSTATUS:BUSY
BEGIN:VALARM
TRIGGER:-PT30M
ACTION:DISPLAY
DESCRIPTION:Reminder
END:VALARM
END:VEVENT
END:VCALENDAR