BEGIN:VCALENDAR
PRODID:-//AddEvent Inc//AddEvent.com v1.7//EN
VERSION:2.0
BEGIN:VTIMEZONE
TZID:Europe/Rome
BEGIN:STANDARD
DTSTART:20261025T020000
RRULE:FREQ=YEARLY;BYDAY=-1SU;BYMONTH=10
TZOFFSETFROM:+0200
TZOFFSETTO:+0100
TZNAME:CET
END:STANDARD
BEGIN:DAYLIGHT
DTSTART:20260329T030000
RRULE:FREQ=YEARLY;BYDAY=-1SU;BYMONTH=3
TZOFFSETFROM:+0100
TZOFFSETTO:+0200
TZNAME:CEST
END:DAYLIGHT
END:VTIMEZONE
BEGIN:VEVENT
DESCRIPTION:Speaker: Ramie Targoff (I Tatti / Brandeis University)\n\nZoom link https://harvard.zoom.us/j/91868009728?pwd=cXJGUUZsbzNOZnVhMlpGNTMvSjk4dz09\n\nMore details here https://itatti.harvard.edu/event/thursday-seminarforging-women%E2%80%99s-networks-renaissance-england-aemilia-bassano-lanier%E2%80%99s\n\n
X-ALT-DESC;FMTTYPE=text/html:Speaker: Ramie Targoff (I Tatti / Brandeis University)<br><br><a href="https://harvard.zoom.us/j/91868009728?pwd=cXJGUUZsbzNOZnVhMlpGNTMvSjk4dz09">Zoom link</a><br><br>More details <a href="https://itatti.harvard.edu/event/thursday-seminarforging-women%E2%80%99s-networks-renaissance-england-aemilia-bassano-lanier%E2%80%99s" rel="noopener noreferrer" target="_blank">here</a><br><br>
UID:1777136627addeventcom
SUMMARY:Thursday Seminar:"Forging Women’s Networks in Renaissance England: Aemilia Bassano Lanier’s Salve Deus"
DTSTART;TZID=Europe/Rome:20220414T180000
DTEND;TZID=Europe/Rome:20220414T193000
DTSTAMP:20260425T170347Z
TRANSP:OPAQUE
STATUS:CONFIRMED
SEQUENCE:0
LOCATION:I Tatti / Zoom
X-MICROSOFT-CDO-BUSYSTATUS:BUSY
BEGIN:VALARM
TRIGGER:-PT120M
ACTION:DISPLAY
DESCRIPTION:Reminder
END:VALARM
END:VEVENT
END:VCALENDAR