BEGIN:VCALENDAR
PRODID:-//AddEvent Inc//AddEvent.com v1.7//EN
VERSION:2.0
BEGIN:VTIMEZONE
TZID:America/Denver
BEGIN:STANDARD
DTSTART:20261101T010000
RRULE:FREQ=YEARLY;BYDAY=1SU;BYMONTH=11
TZOFFSETFROM:-0600
TZOFFSETTO:-0700
TZNAME:MST
END:STANDARD
BEGIN:DAYLIGHT
DTSTART:20260308T030000
RRULE:FREQ=YEARLY;BYDAY=2SU;BYMONTH=3
TZOFFSETFROM:-0700
TZOFFSETTO:-0600
TZNAME:MDT
END:DAYLIGHT
END:VTIMEZONE
BEGIN:VEVENT
DESCRIPTION:Abend Gallery cordially invites you to the opening reception of 'Midwest\,' a solo exhibition by the celebrated contemporary artist Hiroshi Sato. On April 26th\, from 5 to 8 PM\, immerse yourself in an evening where art becomes an intimate experience. Engage with Hiroshi Sato in person and discover the stories behind his serene portrayals of the Midwest. Each canvas reveals a harmonious ballet of light and form\, inviting viewers to find stillness in the motion of everyday life. Don't miss this exclusive opportunity to celebrate the unveiling of 'Midwest' and to collect a piece of this tranquil journey through contemporary art.\n\n------\n\nPowered by addevent.com \nShare your next event with us!\n
X-ALT-DESC;FMTTYPE=text/html:Abend Gallery cordially invites you to the opening reception of 'Midwest,' a solo exhibition by the celebrated contemporary artist Hiroshi Sato. On April 26th, from 5 to 8 PM, immerse yourself in an evening where art becomes an intimate experience. Engage with Hiroshi Sato in person and discover the stories behind his serene portrayals of the Midwest. Each canvas reveals a harmonious ballet of light and form, inviting viewers to find stillness in the motion of everyday life. Don't miss this exclusive opportunity to celebrate the unveiling of 'Midwest' and to collect a piece of this tranquil journey through contemporary art.<br /><br />------<br /><br />Powered by addevent.com <br>Share your next event with us!<br>
UID:1776605138addeventcom
SUMMARY:Meet Hiroshi Sato: Opening Reception for 'Midwest' Exhibition at Abend Gallery
DTSTART;TZID=America/Denver:20240426T170000
DTEND;TZID=America/Denver:20240426T200000
DTSTAMP:20260419T132538Z
TRANSP:OPAQUE
STATUS:CONFIRMED
SEQUENCE:0
LOCATION:1261 Delaware St\, Denver\, 80204\, CO\, USA
X-MICROSOFT-CDO-BUSYSTATUS:BUSY
BEGIN:VALARM
TRIGGER:-PT240M
ACTION:DISPLAY
DESCRIPTION:Reminder
END:VALARM
END:VEVENT
END:VCALENDAR