BEGIN:VCALENDAR
PRODID:-//AddEvent Inc//AddEvent.com v1.7//EN
VERSION:2.0
BEGIN:VTIMEZONE
TZID:Asia/Nicosia
BEGIN:STANDARD
DTSTART:20261025T030000
RRULE:FREQ=YEARLY;BYDAY=-1SU;BYMONTH=10
TZOFFSETFROM:+0300
TZOFFSETTO:+0200
TZNAME:EET
END:STANDARD
BEGIN:DAYLIGHT
DTSTART:20260329T040000
RRULE:FREQ=YEARLY;BYDAY=-1SU;BYMONTH=3
TZOFFSETFROM:+0200
TZOFFSETTO:+0300
TZNAME:EEST
END:DAYLIGHT
END:VTIMEZONE
BEGIN:VEVENT
DESCRIPTION:Το Ανοικτό Πανεπιστήμιο Κύπρου (ΑΠΚΥ) διοργανώνει κατά το τρέχον χειμερινό εξάμηνο 2022 κύκλο δωρεάν ανοικτών διαδικτυακών σεμιναρίων συμβουλευτικής και ψυχολογικής στήριξης. Την Τετάρτη 12 Οκτωβρίου 2022 θα πραγματοποιηθεί το πρώτο ανοικτό στο ευρύ κοινό τηλεσεμινάριο με τίτλο «Θωράκιση ψυχικής υγείας - η σημασία της αυτογνωσίας». H ψυχική υγεία είναι πολλά περισσότερα από την απουσία ψυχικών νοσημάτων και η ψυχική ευημερία πρέπει να είναι προτεραιότητα κάθε ανθρώπου διότι επηρεάζει όλους τους τομείς της ζωής του. Κάθε ενδιαφερόμενος μπορεί να συνδεθεί διαδικτυακά στις 17:00 μέσω των εργαλείων τηλεκπαίδευσης του ΑΠΚΥ\, εδώ: https://tinyurl.com/38jtp8pf https://tinyurl.com/38jtp8pfhttps://tinyurl.com/38jtp8pf https://tinyurl.com/38jtp8pf.\n\nΗ Νάταλυ Λούμπα\, εγγεγραμμένη Συμβουλευτική Ψυχολόγος και συνεργάτιδα του Γραφείου Συμβουλευτικής και Ψυχολογικής Στήριξης (Υπηρεσία Σπουδών και Φοιτητικής Μέριμνας) του ΑΠΚΥ αναλύει πώς μπορούμε να βελτιώσουμε την ψυχική μας υγεία διαμορφώνοντας τον τρόπο ζωής και τις προτεραιότητές μας. Για την εξασφάλιση πιστοποιητικού παρακολούθησης χρειάζεται η ηλεκτρονική δήλωση ενδιαφέροντος έως τις 10 Οκτωβρίου 2022\, εδώ https://forms.office.com/pages/responsepage.aspx?id=ggsNLvdG3Eeqxq1jepJRmx5OAws2g5xKoKIkmo8R_7hUMlpHRzFTNkpaQ0NWOFFPVlpTMDBIRDVUQy4u.\n\n------\n\nPowered by addevent.com \nShare your next event with us!\n
X-ALT-DESC;FMTTYPE=text/html:Το Ανοικτό Πανεπιστήμιο Κύπρου (ΑΠΚΥ) διοργανώνει κατά το τρέχον χειμερινό εξάμηνο 2022 κύκλο δωρεάν ανοικτών διαδικτυακών σεμιναρίων συμβουλευτικής και ψυχολογικής στήριξης. Την <strong>Τετάρτη 12 Οκτωβρίου 2022</strong> θα πραγματοποιηθεί το πρώτο ανοικτό στο ευρύ κοινό τηλεσεμινάριο με τίτλο «Θωράκιση ψυχικής υγείας - η σημασία της αυτογνωσίας». H ψυχική υγεία είναι πολλά περισσότερα από την απουσία ψυχικών νοσημάτων και η ψυχική ευημερία πρέπει να είναι προτεραιότητα κάθε ανθρώπου διότι επηρεάζει όλους τους τομείς της ζωής του. Κάθε ενδιαφερόμενος μπορεί να συνδεθεί διαδικτυακά <strong>στις 17:00 </strong>μέσω των εργαλείων τηλεκπαίδευσης του ΑΠΚΥ, <strong>εδώ: <a href="https://tinyurl.com/38jtp8pf"></a></strong><a href="https://tinyurl.com/38jtp8pf"></a><a href="https://tinyurl.com/38jtp8pf"><strong>https://tinyurl.com/38jtp8pf</strong></a><strong>.</strong><br><br>Η <strong>Νάταλυ Λούμπα</strong>, εγγεγραμμένη Συμβουλευτική Ψυχολόγος και συνεργάτιδα του Γραφείου Συμβουλευτικής και Ψυχολογικής Στήριξης (Υπηρεσία Σπουδών και Φοιτητικής Μέριμνας) του ΑΠΚΥ αναλύει πώς μπορούμε να βελτιώσουμε την ψυχική μας υγεία διαμορφώνοντας τον τρόπο ζωής και τις προτεραιότητές μας. Για την εξασφάλιση πιστοποιητικού παρακολούθησης χρειάζεται η ηλεκτρονική δήλωση ενδιαφέροντος έως τις 10 Οκτωβρίου 2022, <a href="https://forms.office.com/pages/responsepage.aspx?id=ggsNLvdG3Eeqxq1jepJRmx5OAws2g5xKoKIkmo8R_7hUMlpHRzFTNkpaQ0NWOFFPVlpTMDBIRDVUQy4u">εδώ</a>.<br /><br />------<br /><br />Powered by addevent.com <br>Share your next event with us!<br>
UID:1776625636addeventcom
SUMMARY:Τηλεσεμινάριο: Θωράκιση ψυχικής υγείας - η σημασία της αυτογνωσίας
DTSTART;TZID=Asia/Nicosia:20221012T170000
DTEND;TZID=Asia/Nicosia:20221012T180000
DTSTAMP:20260419T190716Z
TRANSP:OPAQUE
STATUS:CONFIRMED
SEQUENCE:0
LOCATION:Online https://tinyurl.com/38jtp8pf
X-MICROSOFT-CDO-BUSYSTATUS:BUSY
BEGIN:VALARM
TRIGGER:-PT60M
ACTION:DISPLAY
DESCRIPTION:Reminder
END:VALARM
END:VEVENT
END:VCALENDAR