BEGIN:VCALENDAR
PRODID:-//AddEvent Inc//AddEvent.com v1.7//EN
VERSION:2.0
BEGIN:VTIMEZONE
TZID:Europe/London
BEGIN:STANDARD
DTSTART:20261025T010000
RRULE:FREQ=YEARLY;BYDAY=-1SU;BYMONTH=10
TZOFFSETFROM:+0100
TZOFFSETTO:+0000
TZNAME:GMT
END:STANDARD
BEGIN:DAYLIGHT
DTSTART:20260329T020000
RRULE:FREQ=YEARLY;BYDAY=-1SU;BYMONTH=3
TZOFFSETFROM:+0000
TZOFFSETTO:+0100
TZNAME:BST
END:DAYLIGHT
END:VTIMEZONE
BEGIN:VEVENT
DESCRIPTION:https://us02web.zoom.us/j/88282180982?pwd=bui4ayhp4l5OAaaByfwqI5vZHmbGbS.1\n\n------\n\nPowered by addevent.com \nShare your next event with us!\n
X-ALT-DESC;FMTTYPE=text/html:<a data-fr-linked="true" href="https://us02web.zoom.us/j/88282180982?pwd=bui4ayhp4l5OAaaByfwqI5vZHmbGbS.1">https://us02web.zoom.us/j/88282180982?pwd=bui4ayhp4l5OAaaByfwqI5vZHmbGbS.1</a><br /><br />------<br /><br />Powered by addevent.com <br>Share your next event with us!<br>
UID:1776765986addeventcom
SUMMARY:The Drama Triangle - free webinar
DTSTART;TZID=Europe/London:20250512T160000
DTEND;TZID=Europe/London:20250512T170000
DTSTAMP:20260421T100626Z
TRANSP:OPAQUE
STATUS:CONFIRMED
SEQUENCE:0
LOCATION:Zoom
X-MICROSOFT-CDO-BUSYSTATUS:BUSY
BEGIN:VALARM
TRIGGER:-PT30M
ACTION:DISPLAY
DESCRIPTION:Reminder
END:VALARM
END:VEVENT
END:VCALENDAR