BEGIN:VCALENDAR
PRODID:-//AddEvent Inc//AddEvent.com v1.7//EN
VERSION:2.0
BEGIN:VTIMEZONE
TZID:Europe/Rome
BEGIN:STANDARD
DTSTART:20261025T020000
RRULE:FREQ=YEARLY;BYDAY=-1SU;BYMONTH=10
TZOFFSETFROM:+0200
TZOFFSETTO:+0100
TZNAME:CET
END:STANDARD
BEGIN:DAYLIGHT
DTSTART:20260329T030000
RRULE:FREQ=YEARLY;BYDAY=-1SU;BYMONTH=3
TZOFFSETFROM:+0100
TZOFFSETTO:+0200
TZNAME:CEST
END:DAYLIGHT
END:VTIMEZONE
BEGIN:VEVENT
DESCRIPTION:Zoom link https://harvard.zoom.us/j/95748729980?pwd=aGVlbHBtTkhZL2xxZGxWUythWjFQUT09\n\nYou can find more details of the event here https://itatti.harvard.edu/event/i-tatti-debriefs-7-domenico-da-piacenza%E2%80%99s-%C2%ABsubtille-del-subtille%C2%BB-fifteenth-century
X-ALT-DESC;FMTTYPE=text/html:<a href="https://harvard.zoom.us/j/95748729980?pwd=aGVlbHBtTkhZL2xxZGxWUythWjFQUT09" rel="noopener noreferrer" target="_blank">Zoom link</a><br><br>You can find more details of the event <a href="https://itatti.harvard.edu/event/i-tatti-debriefs-7-domenico-da-piacenza%E2%80%99s-%C2%ABsubtille-del-subtille%C2%BB-fifteenth-century" rel="noopener noreferrer" target="_blank">here</a>
UID:1777133819addeventcom
SUMMARY:I Tatti Debriefs 7 - Domenico da Piacenza’s «subtille del subtille» in Fifteenth Century dance music
DTSTART;TZID=Europe/Rome:20220505T183000
DTEND;TZID=Europe/Rome:20220505T200000
DTSTAMP:20260425T161659Z
TRANSP:OPAQUE
STATUS:CONFIRMED
SEQUENCE:0
LOCATION:Zoom
X-MICROSOFT-CDO-BUSYSTATUS:BUSY
BEGIN:VALARM
TRIGGER:-PT1440M
ACTION:DISPLAY
DESCRIPTION:Reminder
END:VALARM
END:VEVENT
END:VCALENDAR