BEGIN:VCALENDAR
PRODID:-//AddEvent Inc//AddEvent.com v1.7//EN
VERSION:2.0
BEGIN:VTIMEZONE
TZID:Europe/Lisbon
BEGIN:STANDARD
DTSTART:20261025T010000
RRULE:FREQ=YEARLY;BYDAY=-1SU;BYMONTH=10
TZOFFSETFROM:+0100
TZOFFSETTO:+0000
TZNAME:WET
END:STANDARD
BEGIN:DAYLIGHT
DTSTART:20260329T020000
RRULE:FREQ=YEARLY;BYDAY=-1SU;BYMONTH=3
TZOFFSETFROM:+0000
TZOFFSETTO:+0100
TZNAME:WEST
END:DAYLIGHT
END:VTIMEZONE
BEGIN:VEVENT
DESCRIPTION:Combating marine litter has been the focus of multiple organisations around the world. This session aims to bring together some of the leading initiatives from around the world to shed light on how different avenues companies and organisations interact with marine litter in their value chain.\n\nSpeakers and Companies/Initiatives Presentation:\nMarie Lerøy\, Technology Development Manager\, Aion by Aker Biomarine \nMarc Lucas\, CLS – subsidiary of French Space Agency \nGabriela Otero\, Blue Keepers Project\, UN Global Compact Brazil\nHans Fredrik Braaten\, NIVA\nTore Strand\, Subject Matter Expert - Ropes\, Wilhelmsen Group\n\nhttps://www.eventbrite.com/e/private-sector-forum-on-sustainable-blue-economy-tickets-365686366767\n\n------\n\nPowered by addevent.com \nShare your next event with us!\n
X-ALT-DESC;FMTTYPE=text/html:Combating marine litter has been the focus of multiple organisations around the world. This session aims to bring together some of the leading initiatives from around the world to shed light on how different avenues companies and organisations interact with marine litter in their value chain.<br><br>Speakers and Companies/Initiatives Presentation:<br />Marie Lerøy, Technology Development Manager, Aion by Aker Biomarine <br />Marc Lucas, CLS – subsidiary of French Space Agency <br />Gabriela Otero, Blue Keepers Project, UN Global Compact Brazil<br />Hans Fredrik Braaten, NIVA<br />Tore Strand, Subject Matter Expert - Ropes, Wilhelmsen Group<br><br>https://www.eventbrite.com/e/private-sector-forum-on-sustainable-blue-economy-tickets-365686366767<br /><br />------<br /><br />Powered by addevent.com <br>Share your next event with us!<br>
UID:1776699623addeventcom
SUMMARY:Marine Litter: Initiatives around the World
DTSTART;TZID=Europe/Lisbon:20220628T090000
DTEND;TZID=Europe/Lisbon:20220628T094500
DTSTAMP:20260420T154023Z
TRANSP:OPAQUE
STATUS:CONFIRMED
SEQUENCE:0
LOCATION:EMEL - Alameda das Linhas de Torres 200\, 1750-150 Lisboa\, Portugal - Google Maps
X-MICROSOFT-CDO-BUSYSTATUS:BUSY
BEGIN:VALARM
TRIGGER:-PT60M
ACTION:DISPLAY
DESCRIPTION:Reminder
END:VALARM
END:VEVENT
END:VCALENDAR