BEGIN:VCALENDAR
PRODID:-//AddEvent Inc//AddEvent.com v1.7//EN
VERSION:2.0
BEGIN:VTIMEZONE
TZID:Pacific/Auckland
BEGIN:STANDARD
DTSTART:20260405T020000
RRULE:FREQ=YEARLY;BYDAY=1SU;BYMONTH=4
TZOFFSETFROM:+1300
TZOFFSETTO:+1200
TZNAME:NZST
END:STANDARD
BEGIN:DAYLIGHT
DTSTART:20260927T030000
RRULE:FREQ=YEARLY;BYDAY=-1SU;BYMONTH=9
TZOFFSETFROM:+1200
TZOFFSETTO:+1300
TZNAME:NZDT
END:DAYLIGHT
END:VTIMEZONE
BEGIN:VEVENT
DESCRIPTION:This webinar will explore best practices for cybersecurity in healthcare for suppliers and IT developers.\n\nPanellists will discuss how to safely enable Bring Your Own Device (BYOD) in the health sector - using cloud-first technologies to allow companies to manage devices safely and remotely - and the benefits to users and the business of reliable secure device management that protects patient and corporate data.\n\nHiNZ would like to thank Mobile Mentor for sponsoring this webinar.\n\nREGISTER/VIEW\n\nhttps://webcast.hinz.nz/Mediasite/Showcase/ehn_live2020\n\nMORE INFO & SPEAKER DETAILS\n\nhttps://www.hinz.org.nz/page/Webinar-30June2021\n\n------\n\nPowered by addevent.com \nShare your next event with us!\n
X-ALT-DESC;FMTTYPE=text/html:This webinar will explore best practices for cybersecurity in healthcare for suppliers and IT developers.<br><br>Panellists will discuss how to safely enable Bring Your Own Device (BYOD) in the health sector - using cloud-first technologies to allow companies to manage devices safely and remotely - and the benefits to users and the business of reliable secure device management that protects patient and corporate data.<br><br>HiNZ would like to thank Mobile Mentor for sponsoring this webinar.<br><br>REGISTER/VIEW<br />https://webcast.hinz.nz/Mediasite/Showcase/ehn_live2020<br><br>MORE INFO &amp; SPEAKER DETAILS<br />https://www.hinz.org.nz/page/Webinar-30June2021<br /><br />------<br /><br />Powered by addevent.com <br>Share your next event with us!<br>
UID:1776866987addeventcom
SUMMARY:Webinar: Cybersecurity in health
DTSTART;TZID=Pacific/Auckland:20210630T123000
DTEND;TZID=Pacific/Auckland:20210630T133000
DTSTAMP:20260422T140947Z
TRANSP:OPAQUE
STATUS:CONFIRMED
SEQUENCE:0
LOCATION:Virtual Webinar - link in description
X-MICROSOFT-CDO-BUSYSTATUS:BUSY
BEGIN:VALARM
TRIGGER:-PT30M
ACTION:DISPLAY
DESCRIPTION:Reminder
END:VALARM
END:VEVENT
END:VCALENDAR