BEGIN:VCALENDAR
PRODID:-//AddEvent Inc//AddEvent.com v1.7//EN
VERSION:2.0
BEGIN:VTIMEZONE
TZID:Europe/Rome
BEGIN:STANDARD
DTSTART:20261025T020000
RRULE:FREQ=YEARLY;BYDAY=-1SU;BYMONTH=10
TZOFFSETFROM:+0200
TZOFFSETTO:+0100
TZNAME:CET
END:STANDARD
BEGIN:DAYLIGHT
DTSTART:20260329T030000
RRULE:FREQ=YEARLY;BYDAY=-1SU;BYMONTH=3
TZOFFSETFROM:+0100
TZOFFSETTO:+0200
TZNAME:CEST
END:DAYLIGHT
END:VTIMEZONE
BEGIN:VEVENT
DESCRIPTION:http://itatti.harvard.edu/event/i-tatti-debriefs-2-africa-and-renaissance-i-tatti%E2%80%99s-africa-project\n\nZOOM details\n\nTopic: I Tatti Debriefs 2 - Africa and the Renaissance: I Tatti’s Africa Project\n\nTime: Feb 18\, 2021 12:30 PM Eastern Time (US and Canada)\n\nMeeting ID: 948 4443 0505\n\nPassword: 695603\n\nDirect link: https://harvard.zoom.us/j/94844430505?pwd=V3JMNStwazYzaHpYUHZnNFZiTFRYdz09
X-ALT-DESC;FMTTYPE=text/html:http://itatti.harvard.edu/event/i-tatti-debriefs-2-africa-and-renaissance-i-tatti%E2%80%99s-africa-project<br><br>ZOOM details<br><br>Topic: I Tatti Debriefs 2 - Africa and the Renaissance: I Tatti’s Africa Project<br />Time: Feb 18, 2021 12:30 PM Eastern Time (US and Canada)<br />Meeting ID: 948 4443 0505<br />Password: 695603<br />Direct link: https://harvard.zoom.us/j/94844430505?pwd=V3JMNStwazYzaHpYUHZnNFZiTFRYdz09
UID:1776925917addeventcom
SUMMARY:I Tatti Debriefs 2 - Africa and the Renaissance: I Tatti’s Africa Project
DTSTART;TZID=Europe/Rome:20210218T183000
DTEND;TZID=Europe/Rome:20210218T200000
DTSTAMP:20260423T063157Z
TRANSP:OPAQUE
STATUS:CONFIRMED
SEQUENCE:0
LOCATION:Online Event via Zoom
X-MICROSOFT-CDO-BUSYSTATUS:BUSY
END:VEVENT
END:VCALENDAR