BEGIN:VCALENDAR
PRODID:-//AddEvent Inc//AddEvent.com v1.7//EN
VERSION:2.0
BEGIN:VTIMEZONE
TZID:America/Chicago
BEGIN:STANDARD
DTSTART:20261101T010000
RRULE:FREQ=YEARLY;BYDAY=1SU;BYMONTH=11
TZOFFSETFROM:-0500
TZOFFSETTO:-0600
TZNAME:CST
END:STANDARD
BEGIN:DAYLIGHT
DTSTART:20260308T030000
RRULE:FREQ=YEARLY;BYDAY=2SU;BYMONTH=3
TZOFFSETFROM:-0600
TZOFFSETTO:-0500
TZNAME:CDT
END:DAYLIGHT
END:VTIMEZONE
BEGIN:VEVENT
DESCRIPTION:David Grossman is inviting you to a scheduled Zoom meeting.\n\nTopic: Burned Out & Checked Out: What Employees and Managers Need to Thrive [The Grossman Group & The Harris Poll]    \n\nTime: May 2\, 2024 09:00 AM Central Time (US and Canada)\n\nWe'll see you on Thursday\, 5/2 at 9:00 a.m. CT for The Grossman Group and The Harris Poll webinar exploring top findings from new workplace well-being research. We’ll discuss how the constant pace of change and a variety of new demands are contributing to widespread burnout among employees and managers\, how to build a culture that thrives\, and answer your top questions through an interactive Q&A. \n\nJoin Zoom Meeting\nhttps://us02web.zoom.us/j/86908333278\n\nMeeting ID: 869 0833 3278\n\n---\n\nOne tap mobile\n+13092053325\,\,86908333278# US\n+13126266799\,\,86908333278# US (Chicago)\n\n---\n\nDial by your location\n• +1 309 205 3325 US\n• +1 312 626 6799 US (Chicago)\n• +1 646 558 8656 US (New York)\n• +1 646 931 3860 US\n• +1 301 715 8592 US (Washington DC)\n• +1 305 224 1968 US\n• +1 360 209 5623 US\n• +1 386 347 5053 US\n• +1 507 473 4847 US\n• +1 564 217 2000 US\n• +1 669 444 9171 US\n• +1 669 900 9128 US (San Jose)\n• +1 689 278 1000 US\n• +1 719 359 4580 US\n• +1 253 205 0468 US\n• +1 253 215 8782 US (Tacoma)\n• +1 346 248 7799 US (Houston)\n\nMeeting ID: 869 0833 3278\n\nFind your local number: https://us02web.zoom.us/u/kbTksSZDFG\n\n------\n\nPowered by addevent.com \nShare your next event with us!\n
X-ALT-DESC;FMTTYPE=text/html:David Grossman is inviting you to a scheduled Zoom meeting.<br><br>Topic: Burned Out &amp; Checked Out: What Employees and Managers Need to Thrive [The Grossman Group &amp; The Harris Poll]    <br><br>Time: May 2, 2024 09:00 AM Central Time (US and Canada)<br><br>We'll see you on Thursday, 5/2 at 9:00 a.m. CT for The Grossman Group and The Harris Poll webinar exploring top findings from new workplace well-being research. We’ll discuss how the constant pace of change and a variety of new demands are contributing to widespread burnout among employees and managers, how to build a culture that thrives, and answer your top questions through an interactive Q&amp;A. <br><br>Join Zoom Meeting<br /><a data-fr-linked="true" href="https://us02web.zoom.us/j/86908333278">https://us02web.zoom.us/j/86908333278</a><br><br>Meeting ID: 869 0833 3278<br><br>---<br><br>One tap mobile<br />+13092053325,,86908333278# US<br />+13126266799,,86908333278# US (Chicago)<br><br>---<br><br>Dial by your location<br />• +1 309 205 3325 US<br />• +1 312 626 6799 US (Chicago)<br />• +1 646 558 8656 US (New York)<br />• +1 646 931 3860 US<br />• +1 301 715 8592 US (Washington DC)<br />• +1 305 224 1968 US<br />• +1 360 209 5623 US<br />• +1 386 347 5053 US<br />• +1 507 473 4847 US<br />• +1 564 217 2000 US<br />• +1 669 444 9171 US<br />• +1 669 900 9128 US (San Jose)<br />• +1 689 278 1000 US<br />• +1 719 359 4580 US<br />• +1 253 205 0468 US<br />• +1 253 215 8782 US (Tacoma)<br />• +1 346 248 7799 US (Houston)<br><br>Meeting ID: 869 0833 3278<br><br>Find your local number: <a data-fr-linked="true" href="https://us02web.zoom.us/u/kbTksSZDFG">https://us02web.zoom.us/u/kbTksSZDFG</a><br /><br />------<br /><br />Powered by addevent.com <br>Share your next event with us!<br>
UID:1776930054addeventcom
SUMMARY:5/2 Webinar - Burned Out & Checked Out: What Employees and Managers Need to Thrive [The Grossman Group & The Harris Poll]
DTSTART;TZID=America/Chicago:20240502T090000
DTEND;TZID=America/Chicago:20240502T100000
DTSTAMP:20260423T074054Z
TRANSP:OPAQUE
STATUS:CONFIRMED
SEQUENCE:0
LOCATION:https://us02web.zoom.us/j/86908333278
X-MICROSOFT-CDO-BUSYSTATUS:BUSY
BEGIN:VALARM
TRIGGER:-PT15M
ACTION:DISPLAY
DESCRIPTION:Reminder
END:VALARM
END:VEVENT
END:VCALENDAR