BEGIN:VCALENDAR
PRODID:-//AddEvent Inc//AddEvent.com v1.7//EN
VERSION:2.0
BEGIN:VTIMEZONE
TZID:America/New_York
BEGIN:STANDARD
DTSTART:20261101T010000
RRULE:FREQ=YEARLY;BYDAY=1SU;BYMONTH=11
TZOFFSETFROM:-0400
TZOFFSETTO:-0500
TZNAME:EST
END:STANDARD
BEGIN:DAYLIGHT
DTSTART:20260308T030000
RRULE:FREQ=YEARLY;BYDAY=2SU;BYMONTH=3
TZOFFSETFROM:-0500
TZOFFSETTO:-0400
TZNAME:EDT
END:DAYLIGHT
END:VTIMEZONE
BEGIN:VEVENT
DESCRIPTION:Please use the link below to access the webcast up to 15 minutes before the start time: \n\nhttps://event.on24.com/wcc/r/2263489/EF383E59DEF25669E5B954196409A753\n\nOnce you decide to invest in ABM\, you’re faced with the inevitable question: How do we get started? The Content4Demand team knows that with any stellar strategy comes equally stellar execution. And that execution is fueled by content that anchors every engagement touch point and tactic. \n\nJoin Tonya Vinas\, VP of Content Strategy and Services\, and Brenda Caine\, Senior Content Strategist\, to dig into the most common challenges with ABM stand-ups and receive tactical tips and best practices from top-performing brands. \n\nLearn how to develop a content-driven ABM strategy (without all the hiccups)\, including:\n\n• Outlining the sales journey and identifying key messaging\;\n\n• Developing a campaign theme that has the creative fuel to drive engagement across channels\; \n\n• Establishing a journey framework that combines a multitude of tactics and formats\; \n\n• Building a buyer-focused content strategy to support these deliverables\; and \n\n• Crafting powerful sales enablement and post-purchase content to drive client success and loyalty.
X-ALT-DESC;FMTTYPE=text/html:Please use the link below to access the webcast up to 15 minutes before the start time: <br />https://event.on24.com/wcc/r/2263489/EF383E59DEF25669E5B954196409A753<br><br>Once you decide to invest in ABM, you’re faced with the inevitable question: How do we get started? The Content4Demand team knows that with any stellar strategy comes equally stellar execution. And that execution is fueled by content that anchors every engagement touch point and tactic. <br><br>Join Tonya Vinas, VP of Content Strategy and Services, and Brenda Caine, Senior Content Strategist, to dig into the most common challenges with ABM stand-ups and receive tactical tips and best practices from top-performing brands. <br><br>Learn how to develop a content-driven ABM strategy (without all the hiccups), including:<br />•Outlining the sales journey and identifying key messaging;<br />•Developing a campaign theme that has the creative fuel to drive engagement across channels; <br />•Establishing a journey framework that combines a multitude of tactics and formats; <br />•Building a buyer-focused content strategy to support these deliverables; and <br />•Crafting powerful sales enablement and post-purchase content to drive client success and loyalty.
UID:1776761177addeventcom
SUMMARY:ABM Without The WTF: 8 Lessons From Top-Performing Brands
DTSTART;TZID=America/New_York:20200513T160000
DTEND;TZID=America/New_York:20200513T170000
DTSTAMP:20260421T084617Z
TRANSP:OPAQUE
STATUS:CONFIRMED
SEQUENCE:0
LOCATION:https://event.on24.com/wcc/r/2263489/EF383E59DEF25669E5B954196409A753
X-MICROSOFT-CDO-BUSYSTATUS:BUSY
BEGIN:VALARM
TRIGGER:-PT15M
ACTION:DISPLAY
DESCRIPTION:Reminder
END:VALARM
END:VEVENT
END:VCALENDAR