BEGIN:VCALENDAR
PRODID:-//AddEvent Inc//AddEvent.com v1.7//EN
VERSION:2.0
BEGIN:VTIMEZONE
TZID:Europe/Rome
BEGIN:STANDARD
DTSTART:20261025T020000
RRULE:FREQ=YEARLY;BYDAY=-1SU;BYMONTH=10
TZOFFSETFROM:+0200
TZOFFSETTO:+0100
TZNAME:CET
END:STANDARD
BEGIN:DAYLIGHT
DTSTART:20260329T030000
RRULE:FREQ=YEARLY;BYDAY=-1SU;BYMONTH=3
TZOFFSETFROM:+0100
TZOFFSETTO:+0200
TZNAME:CEST
END:DAYLIGHT
END:VTIMEZONE
BEGIN:VEVENT
DESCRIPTION:Join the seminar via the Zoom link https://harvard.zoom.us/j/92438666192?pwd=K1IwMEI1eER2OHoxb2ZXSDRqYmg0QT09\n\nMore details of the event https://itatti.harvard.edu/event/thursday-seminar-flesh-and-fabric-raiment-passion-crucifixion-pietro-lorenzetti.
X-ALT-DESC;FMTTYPE=text/html:Join the seminar via the <a href="https://harvard.zoom.us/j/92438666192?pwd=K1IwMEI1eER2OHoxb2ZXSDRqYmg0QT09">Zoom link</a><br><br><a href="https://itatti.harvard.edu/event/thursday-seminar-flesh-and-fabric-raiment-passion-crucifixion-pietro-lorenzetti">More details of the event</a>.
UID:1777071730addeventcom
SUMMARY:Thursday Seminar: "Flesh and Fabric: The Raiment of the Passion in a Crucifixion by Pietro Lorenzetti"
DTSTART;TZID=Europe/Rome:20220519T180000
DTEND;TZID=Europe/Rome:20220519T193000
DTSTAMP:20260424T230210Z
TRANSP:OPAQUE
STATUS:CONFIRMED
SEQUENCE:0
LOCATION:I Tatti / Zoom
X-MICROSOFT-CDO-BUSYSTATUS:BUSY
BEGIN:VALARM
TRIGGER:-PT1440M
ACTION:DISPLAY
DESCRIPTION:Reminder
END:VALARM
END:VEVENT
END:VCALENDAR