BEGIN:VCALENDAR
PRODID:-//AddEvent Inc//AddEvent.com v1.7//EN
VERSION:2.0
BEGIN:VTIMEZONE
TZID:UTC
BEGIN:STANDARD
DTSTART:19700101T000000
TZOFFSETFROM:+0000
TZOFFSETTO:+0000
TZNAME:UTC
END:STANDARD
END:VTIMEZONE
BEGIN:VEVENT
DESCRIPTION:**Digitalization as a Catalyst for Sustainable Mobility in African Cities**\n\nCo-hosted by Transport for Cairo (TfC) and the United Nations Environment Programme (UNEP)\n\nPlease click the link below to join the webinar:\n\nhttps://us06web.zoom.us/j/83934776542?pwd=NjBMRnl0WGNqNXBNbmM1SzlPLzg5QT09\n\nPasscode: africadigi\n\nDigitalisation is a crucial enabler of the sustainable mobility worldwide. In Africa\, the mapping of complex existing systems has led to innovations and new service provision models. Digitalization continues to present an opportunity for transformation of the mobility sector in Africa – including reducing emissions\, improving air quality and achieving a more equitable urban context across classes and genders. \n\nView Session Agenda: https://transportforcairo.com/work/events/acw-2021-digitalization/\n\nAfrica Climate Week 2021\n\nACW 2021 is accelerating collaboration and integrating climate action into global pandemic recovery. Building forward opens an opportunity to address social inequalities and invest in economic development that is good for humanity and nature.\n\nThe ACW 2021 Virtual Thematic Sessions take the pulse of climate action in the region\, explore climate challenges and opportunities\, and showcase ambitious solutions. These sessions focus on priorities identified earlier in the year at the Virtual Regional Roundtables and the outcomes will be carried forward to the Ministerial Sessions later this year. This is an opportunity for regional stakeholders to have their voice heard and contribute to COP 26.\n\nACW 2021 is scheduled for 26-29 September and will be hosted by the Government of Uganda.\n\nEach track focuses on one theme and runs for four hours each day of the event. The three tracks of Africa Climate Week 2021 are:\n\n• National actions and economy-wide approaches – led by the World Bank\n\n• Integrated approaches for climate-resilient development – led by UNDP\n\n• Seizing transformation opportunities – led by UNEP\n\nWebinar Zoom Link:\n\nhttps://us06web.zoom.us/w/83934776542?tk=6Ipbg4T1tuzVZPvD4mKe32nSCV1R8aI7IyUkK1JZwFg.DQMAAAATiucM3hZhZ1BydmdSNVJ3LWFFTXQyU0lZenlRAAAAAAAAAAAAAAAAAAAAAAAAAAAAAA&pwd=NjBMRnl0WGNqNXBNbmM1SzlPLzg5QT09\n\n------\n\nPowered by addevent.com \nShare your next event with us!\n
X-ALT-DESC;FMTTYPE=text/html:**Digitalization as a Catalyst for Sustainable Mobility in African Cities**<br />Co-hosted by Transport for Cairo (TfC) and the United Nations Environment Programme (UNEP)<br><br>Please click the link below to join the webinar:<br />https://us06web.zoom.us/j/83934776542?pwd=NjBMRnl0WGNqNXBNbmM1SzlPLzg5QT09<br><br>Passcode: africadigi<br><br>Digitalisation is a crucial enabler of the sustainable mobility worldwide. In Africa, the mapping of complex existing systems has led to innovations and new service provision models. Digitalization continues to present an opportunity for transformation of the mobility sector in Africa – including reducing emissions, improving air quality and achieving a more equitable urban context across classes and genders. <br />View Session Agenda: https://transportforcairo.com/work/events/acw-2021-digitalization/<br><br>Africa Climate Week 2021<br><br>ACW 2021 is accelerating collaboration and integrating climate action into global pandemic recovery. Building forward opens an opportunity to address social inequalities and invest in economic development that is good for humanity and nature.<br />The ACW 2021 Virtual Thematic Sessions take the pulse of climate action in the region, explore climate challenges and opportunities, and showcase ambitious solutions. These sessions focus on priorities identified earlier in the year at the Virtual Regional Roundtables and the outcomes will be carried forward to the Ministerial Sessions later this year. This is an opportunity for regional stakeholders to have their voice heard and contribute to COP 26.<br />ACW 2021 is scheduled for 26-29 September and will be hosted by the Government of Uganda.<br><br>Each track focuses on one theme and runs for four hours each day of the event. The three tracks of Africa Climate Week 2021 are:<br />• National actions and economy-wide approaches – led by the World Bank<br />• Integrated approaches for climate-resilient development – led by UNDP<br />• Seizing transformation opportunities – led by UNEP<br><br>Webinar Zoom Link:<br />https://us06web.zoom.us/w/83934776542?tk=6Ipbg4T1tuzVZPvD4mKe32nSCV1R8aI7IyUkK1JZwFg.DQMAAAATiucM3hZhZ1BydmdSNVJ3LWFFTXQyU0lZenlRAAAAAAAAAAAAAAAAAAAAAAAAAAAAAA&pwd=NjBMRnl0WGNqNXBNbmM1SzlPLzg5QT09<br /><br />------<br /><br />Powered by addevent.com <br>Share your next event with us!<br>
UID:1776822162addeventcom
SUMMARY:ACW2021: Digitalization as a Catalyst for Sustainable Mobility in African Cities
DTSTART;TZID=UTC:20210927T150000
DTEND;TZID=UTC:20210927T163000
DTSTAMP:20260422T014242Z
TRANSP:OPAQUE
STATUS:CONFIRMED
SEQUENCE:0
X-MICROSOFT-CDO-BUSYSTATUS:BUSY
BEGIN:VALARM
TRIGGER:-PT30M
ACTION:DISPLAY
DESCRIPTION:Reminder
END:VALARM
END:VEVENT
END:VCALENDAR