BEGIN:VCALENDAR
PRODID:-//AddEvent Inc//AddEvent.com v1.7//EN
VERSION:2.0
BEGIN:VTIMEZONE
TZID:Europe/Madrid
BEGIN:STANDARD
DTSTART:20261025T020000
RRULE:FREQ=YEARLY;BYDAY=-1SU;BYMONTH=10
TZOFFSETFROM:+0200
TZOFFSETTO:+0100
TZNAME:CET
END:STANDARD
BEGIN:DAYLIGHT
DTSTART:20260329T030000
RRULE:FREQ=YEARLY;BYDAY=-1SU;BYMONTH=3
TZOFFSETFROM:+0100
TZOFFSETTO:+0200
TZNAME:CEST
END:DAYLIGHT
END:VTIMEZONE
BEGIN:VEVENT
DESCRIPTION:Haz clic aquí https://www.faradayvp.com/evento-faraday-barcelona-inscripcion-socios para acceder a la página de registro.<br data-start="51" data-end="54" />Haz clic aquí https://www.addevent.com/event/Kv19203336+google para añadir el evento al calendario.\n\n------\n\nPowered by addevent.com \nShare your next event with us!\n
X-ALT-DESC;FMTTYPE=text/html:Haz clic <a href="https://www.faradayvp.com/evento-faraday-barcelona-inscripcion-socios" target="_blank" rel="noopener noreferrer">aquí</a> para acceder a la página de registro.<br data-start="51" data-end="54" />Haz clic <a href="https://www.addevent.com/event/Kv19203336+google" target="_blank" rel="noopener noreferrer">aquí</a> para añadir el evento al calendario.<br /><br />------<br /><br />Powered by addevent.com <br>Share your next event with us!<br>
UID:1776881623addeventcom
SUMMARY:Cena Privada Evento Faraday @Barcelona
DTSTART;TZID=Europe/Madrid:20260528T220000
DTEND;TZID=Europe/Madrid:20260528T234500
DTSTAMP:20260422T181343Z
TRANSP:OPAQUE
STATUS:CONFIRMED
SEQUENCE:0
LOCATION:Via Granados (Calle d'Enric Granados 67)
X-MICROSOFT-CDO-BUSYSTATUS:BUSY
BEGIN:VALARM
TRIGGER:-PT2880M
ACTION:DISPLAY
DESCRIPTION:Reminder
END:VALARM
END:VEVENT
END:VCALENDAR