BEGIN:VCALENDAR
PRODID:-//AddEvent Inc//AddEvent.com v1.7//EN
VERSION:2.0
BEGIN:VTIMEZONE
TZID:Asia/Nicosia
BEGIN:STANDARD
DTSTART:20261025T030000
RRULE:FREQ=YEARLY;BYDAY=-1SU;BYMONTH=10
TZOFFSETFROM:+0300
TZOFFSETTO:+0200
TZNAME:EET
END:STANDARD
BEGIN:DAYLIGHT
DTSTART:20260329T040000
RRULE:FREQ=YEARLY;BYDAY=-1SU;BYMONTH=3
TZOFFSETFROM:+0200
TZOFFSETTO:+0300
TZNAME:EEST
END:DAYLIGHT
END:VTIMEZONE
BEGIN:VEVENT
DESCRIPTION:Με αφορμή την Παγκόσμια Ημέρα Μητρικής Γλώσσας\, η Γλωσσολογική Εταιρεία Κύπρου\, το Ανοικτό Πανεπιστήμιο Κύπρου\, το Πανεπιστήμιο Κύπρου και το Πανεπιστήμιο Frederick οργανώνουν υβριδική εκδήλωση με θέμα «Η κυπριακή διάλεκτος στις τέχνες». Η εκδήλωση θα πραγματοποιηθεί την Πέμπτη 2 Μαρτίου 2023\, στις 19:00 – 21:00\, στη Βιβλιοθήκη του Πανεπιστημίου Κύπρου (αμφιθέατρο LRC 012). Θα μεταδοθεί ταυτόχρονα και διαδικτυακά μέσω των εργαλείων τηλεκπαίδευσης του Ανοικτού Πανεπιστημίου Κύπρου στον σύνδεσμο: https://bit.ly/3xETgxQ https://bit.ly/3xETgxQ\n\n\n\n------\n\nPowered by addevent.com \nShare your next event with us!\n
X-ALT-DESC;FMTTYPE=text/html:Με αφορμή την Παγκόσμια Ημέρα Μητρικής Γλώσσας, η Γλωσσολογική Εταιρεία Κύπρου, το Ανοικτό Πανεπιστήμιο Κύπρου, το Πανεπιστήμιο Κύπρου και το Πανεπιστήμιο Frederick οργανώνουν <strong>υβριδική εκδήλωση</strong> με θέμα «<strong>Η κυπριακή διάλεκτος στις τέχνες</strong>». Η εκδήλωση θα πραγματοποιηθεί την <strong>Πέμπτη 2 Μαρτίου 2023</strong>, στις <strong>19:00 – 21:00</strong>,<strong> στη Βιβλιοθήκη του Πανεπιστημίου Κύπρου</strong> (αμφιθέατρο LRC 012). Θα μεταδοθεί ταυτόχρονα <strong>και διαδικτυακά</strong> μέσω των εργαλείων τηλεκπαίδευσης του Ανοικτού Πανεπιστημίου Κύπρου <strong>στον σύνδεσμο: </strong><a href="https://bit.ly/3xETgxQ"><strong>https://bit.ly/3xETgxQ</strong></a><br /><div><div><div style="background-image: url("></div><div style="width: 300px; height: 200px; top: 0px; left: 0px; font-size: 13px;"><div style="overflow: hidden;"><div draggable="true"></div><div><p dir="auto"></p><p dir="auto"></p></div></div></div></div></div><br /><br />------<br /><br />Powered by addevent.com <br>Share your next event with us!<br>
UID:1776609075addeventcom
SUMMARY:Υβριδική εκδήλωση: Η κυπριακή διάλεκτος στις τέχνες
DTSTART;TZID=Asia/Nicosia:20230302T190000
DTEND;TZID=Asia/Nicosia:20230302T210000
DTSTAMP:20260419T143115Z
TRANSP:OPAQUE
STATUS:CONFIRMED
SEQUENCE:0
X-MICROSOFT-CDO-BUSYSTATUS:BUSY
BEGIN:VALARM
TRIGGER:-PT120M
ACTION:DISPLAY
DESCRIPTION:Reminder
END:VALARM
END:VEVENT
END:VCALENDAR