BEGIN:VCALENDAR
PRODID:-//AddEvent Inc//AddEvent.com v1.7//EN
VERSION:2.0
BEGIN:VTIMEZONE
TZID:Europe/Paris
BEGIN:STANDARD
DTSTART:20261025T020000
RRULE:FREQ=YEARLY;BYDAY=-1SU;BYMONTH=10
TZOFFSETFROM:+0200
TZOFFSETTO:+0100
TZNAME:CET
END:STANDARD
BEGIN:DAYLIGHT
DTSTART:20260329T030000
RRULE:FREQ=YEARLY;BYDAY=-1SU;BYMONTH=3
TZOFFSETFROM:+0100
TZOFFSETTO:+0200
TZNAME:CEST
END:DAYLIGHT
END:VTIMEZONE
BEGIN:VEVENT
DESCRIPTION:Seminar URL: https://www.pianogroove.com/live-seminars/monkey-bars-harmonic-exploration/ \n\nMonkey Bars is the name given to the musical practice of alternating chord changes with melodic development. It can be described as follows: \n\n• You play a chord of any type in any key\, and then a short melody of 3 or 4 notes over it. \n• You stop at the last note and pick another chord that will harmonize that note\, not necessarily in a diatonic relationship with the first chord.\n\nThis exercise will develop your ability to compose and to improvise by making both the harmony and the melody flexible. It may lead to an actual composition\, or not. In any case\, it is highly beneficial to the development of the inner harmonic sense.
X-ALT-DESC;FMTTYPE=text/html:Seminar URL: <a href="https://www.pianogroove.com/live-seminars/monkey-bars-harmonic-exploration/">https://www.pianogroove.com/live-seminars/monkey-bars-harmonic-exploration/</a> <br><br>Monkey Bars is the name given to the musical practice of alternating chord changes with melodic development. It can be described as follows: <ul><li>You play a chord of any type in any key, and then a short melody of 3 or 4 notes over it. </li><li>You stop at the last note and pick another chord that will harmonize that note, not necessarily in a diatonic relationship with the first chord.</li></ul>This exercise will develop your ability to compose and to improvise by making both the harmony and the melody flexible. It may lead to an actual composition, or not. In any case, it is highly beneficial to the development of the inner harmonic sense.
UID:1776606891addeventcom
SUMMARY:Monkey Bars For Harmonic Development
DTSTART;TZID=Europe/Paris:20220427T180000
DTEND;TZID=Europe/Paris:20220427T190000
DTSTAMP:20260419T135451Z
TRANSP:OPAQUE
STATUS:CONFIRMED
SEQUENCE:0
LOCATION:https://www.pianogroove.com/live-seminars/monkey-bars-harmonic-exploration/
X-MICROSOFT-CDO-BUSYSTATUS:BUSY
BEGIN:VALARM
TRIGGER:-PT60M
ACTION:DISPLAY
DESCRIPTION:Reminder
END:VALARM
END:VEVENT
END:VCALENDAR