BEGIN:VCALENDAR
PRODID:-//AddEvent Inc//AddEvent.com v1.7//EN
VERSION:2.0
BEGIN:VTIMEZONE
TZID:Europe/Kyiv
BEGIN:STANDARD
DTSTART:20261025T030000
RRULE:FREQ=YEARLY;BYDAY=-1SU;BYMONTH=10
TZOFFSETFROM:+0300
TZOFFSETTO:+0200
TZNAME:EET
END:STANDARD
BEGIN:DAYLIGHT
DTSTART:20260329T040000
RRULE:FREQ=YEARLY;BYDAY=-1SU;BYMONTH=3
TZOFFSETFROM:+0200
TZOFFSETTO:+0300
TZNAME:EEST
END:DAYLIGHT
END:VTIMEZONE
BEGIN:VEVENT
DESCRIPTION:Шановні партнери\, приєднатися до вебінару можна за посиланням https://zebra.zoom.com/j/94624713334\n\n------\n\nPowered by addevent.com \nShare your next event with us!\n
X-ALT-DESC;FMTTYPE=text/html:Шановні партнери, приєднатися до вебінару можна за посиланням https://zebra.zoom.com/j/94624713334<br /><br />------<br /><br />Powered by addevent.com <br>Share your next event with us!<br>
UID:1776836708addeventcom
SUMMARY:Вебінар "Огляд промислових принтерів Zebra" від Сайтекс-Про
DTSTART;TZID=Europe/Kyiv:20200821T120000
DTEND;TZID=Europe/Kyiv:20200821T130000
DTSTAMP:20260422T054508Z
TRANSP:OPAQUE
STATUS:CONFIRMED
SEQUENCE:0
LOCATION:https://zebra.zoom.com/j/94624713334
X-MICROSOFT-CDO-BUSYSTATUS:BUSY
BEGIN:VALARM
TRIGGER:-PT60M
ACTION:DISPLAY
DESCRIPTION:Reminder
END:VALARM
END:VEVENT
END:VCALENDAR