BEGIN:VCALENDAR
PRODID:-//AddEvent Inc//AddEvent.com v1.7//EN
VERSION:2.0
BEGIN:VTIMEZONE
TZID:America/New_York
BEGIN:STANDARD
DTSTART:20261101T010000
RRULE:FREQ=YEARLY;BYDAY=1SU;BYMONTH=11
TZOFFSETFROM:-0400
TZOFFSETTO:-0500
TZNAME:EST
END:STANDARD
BEGIN:DAYLIGHT
DTSTART:20260308T030000
RRULE:FREQ=YEARLY;BYDAY=2SU;BYMONTH=3
TZOFFSETFROM:-0500
TZOFFSETTO:-0400
TZNAME:EDT
END:DAYLIGHT
END:VTIMEZONE
BEGIN:VEVENT
DESCRIPTION:Get ready to groove every Wednesday through October at 10th Street Park with our free music series! 🎶 Kick back after work\, soak in the tunes and the vibrant neighborhood vibes. \n\nThis free community event is the perfect way to unwind after work and connect with your local community and colleagues. There will be chairs to lounge in\, as well as 🏓 ping pong and corn hole for added fun.\n\nBring your own snacks and beverages!\n\nFor more information\, go here: https://www.midtownatl.com/do/midtown-live-after-5-10th-street-park
X-ALT-DESC;FMTTYPE=text/html:Get ready to groove every Wednesday through October at 10th Street Park with our free music series! 🎶 Kick back after work, soak in the tunes and the vibrant neighborhood vibes. <br><br>This free community event is the perfect way to unwind after work and connect with your local community and colleagues. There will be chairs to lounge in, as well as 🏓 ping pong and corn hole for added fun.<br><br>Bring your own snacks and beverages!<br><br>For more information, go here: <a data-fr-linked="true" href="https://www.midtownatl.com/do/midtown-live-after-5-10th-street-park">https://www.midtownatl.com/do/midtown-live-after-5-10th-street-park</a>
UID:1776938085addeventcom
SUMMARY:Midtown LIVE After 5: 10th Street Park
DTSTART;TZID=America/New_York:20240911T170000
DTEND;TZID=America/New_York:20240911T190000
DTSTAMP:20260423T095445Z
TRANSP:OPAQUE
STATUS:CONFIRMED
SEQUENCE:0
LOCATION:10th and Peachtree Streets
RRULE:FREQ=WEEKLY;UNTIL=20241031T235959;BYDAY=WE
X-MICROSOFT-CDO-BUSYSTATUS:BUSY
BEGIN:VALARM
TRIGGER:-PT30M
ACTION:DISPLAY
DESCRIPTION:Reminder
END:VALARM
END:VEVENT
END:VCALENDAR