BEGIN:VCALENDAR
PRODID:-//AddEvent Inc//AddEvent.com v1.7//EN
VERSION:2.0
BEGIN:VEVENT
DESCRIPTION:The Flash Memory Summit program provides attendees with practical information on the current state of solid state memory and its applications.\n\nSummit themes include: Solid State Drives (SSDs)\, Flash Memory Based Architectures\, Enterprise Storage\, Controllers\, Enterprise Applications\, PCIe/NVMe SSDs\, new non-volatile memory technologies\, persistent memory\, standards\, testing\, and applications.\n\nThe Summit Program consists of a day of pre-conference seminars\, followed by three days of panel discussions\, keynotes\, forums\, paper sessions\, tutorials\, updates\, and special sessions.\n\n------\n\nPowered by addevent.com \nShare your next event with us!\n
X-ALT-DESC;FMTTYPE=text/html:The Flash Memory Summit program provides attendees with practical information on the current state of solid state memory and its applications.<br><br>Summit themes include: Solid State Drives (SSDs), Flash Memory Based Architectures, Enterprise Storage, Controllers, Enterprise Applications, PCIe/NVMe SSDs, new non-volatile memory technologies, persistent memory, standards, testing, and applications.<br><br>The Summit Program consists of a day of pre-conference seminars, followed by three days of panel discussions, keynotes, forums, paper sessions, tutorials, updates, and special sessions.<br /><br />------<br /><br />Powered by addevent.com <br>Share your next event with us!<br>
UID:1777057551addeventcom
SUMMARY:Flash Memory Summit 2018
DTSTART;VALUE=DATE:20180807
DTEND;VALUE=DATE:20180810
DTSTAMP:20260424T190551Z
TRANSP:OPAQUE
STATUS:CONFIRMED
SEQUENCE:0
X-MICROSOFT-CDO-BUSYSTATUS:BUSY
END:VEVENT
END:VCALENDAR