BEGIN:VCALENDAR
PRODID:-//AddEvent Inc//AddEvent.com v1.7//EN
VERSION:2.0
BEGIN:VTIMEZONE
TZID:America/Toronto
BEGIN:STANDARD
DTSTART:20261101T010000
RRULE:FREQ=YEARLY;BYDAY=1SU;BYMONTH=11
TZOFFSETFROM:-0400
TZOFFSETTO:-0500
TZNAME:EST
END:STANDARD
BEGIN:DAYLIGHT
DTSTART:20260308T030000
RRULE:FREQ=YEARLY;BYDAY=2SU;BYMONTH=3
TZOFFSETFROM:-0500
TZOFFSETTO:-0400
TZNAME:EDT
END:DAYLIGHT
END:VTIMEZONE
BEGIN:VEVENT
DESCRIPTION:The SSU teamed up with HireUp and Chartwells to be able to get a FREE professional headshot or record a video resume to help you elevate your career goals. \n\nStop by anytime between 10 am - 4pm EST on April 6th!\n\n------\n\nPowered by addevent.com \nShare your next event with us!\n
X-ALT-DESC;FMTTYPE=text/html:The SSU teamed up with HireUp and Chartwells to be able to get a FREE professional headshot or record a video resume to help you elevate your career goals. <br><br>Stop by anytime between 10 am - 4pm EST on April 6th!<br /><br />------<br /><br />Powered by addevent.com <br>Share your next event with us!<br>
UID:1776705667addeventcom
SUMMARY:HireUp & Headshots:
DTSTART;TZID=America/Toronto:20220406T100000
DTEND;TZID=America/Toronto:20220406T160000
DTSTAMP:20260420T172107Z
TRANSP:OPAQUE
STATUS:CONFIRMED
SEQUENCE:0
LOCATION:B-Wing Atrium\, Davis Campus 7897 McLaughlin Rd\, Brampton L6Y 5H9
X-MICROSOFT-CDO-BUSYSTATUS:BUSY
BEGIN:VALARM
TRIGGER:-PT30M
ACTION:DISPLAY
DESCRIPTION:Reminder
END:VALARM
END:VEVENT
END:VCALENDAR